{"text_format":"3","workbook":"xlsx","n_sheets":3,"sheets":["Protokoll E-Befischung","Listen","Backup"],"not_rendered":{"images":113,"macros":1,"defined_names":8},"read":"whole","date_system":"1900"}

{"sheet":"Protokoll E-Befischung","index":0,"n_rows":222,"n_cols":52,"rows_kept":222,"merged":[[0,17,1,35],[2,42,2,50],[4,7,4,25],[4,31,4,50],[6,7,6,25],[6,31,6,50],[8,10,8,25],[8,31,8,50],[9,13,9,38],[12,1,12,21],[12,23,12,42],[12,44,12,51],[14,8,14,14],[14,17,14,24],[14,27,14,33],[14,35,14,42],[14,45,14,51],[15,45,15,46],[16,34,17,42],[16,43,17,51],[18,5,18,33],[18,34,18,42],[18,43,18,51],[19,5,19,33],[19,34,19,42],[19,43,19,51],[22,1,22,9],[22,11,22,16],[22,17,22,22],[22,23,22,27],[22,28,22,33],[28,3,28,8],[28,13,28,18],[28,22,28,30],[28,32,28,39],[32,43,33,51],[33,1,33,9],[33,11,33,16],[33,22,33,26],[33,32,33,36],[48,16,48,18],[53,16,53,18],[78,7,78,9],[80,2,80,3],[80,13,80,14],[80,40,80,42],[82,2,82,3],[82,13,82,14],[82,40,82,42],[89,7,89,9],[89,10,89,11],[89,21,89,22],[89,32,89,33],[89,41,89,43],[92,21,92,22],[92,32,92,33],[95,32,95,33],[98,21,98,22],[98,32,98,33],[98,41,98,43],[100,7,100,9],[100,21,100,22],[100,32,100,33],[100,41,100,43],[102,21,102,22],[102,32,102,33],[102,41,102,43],[102,45,102,51],[105,10,105,11],[105,21,105,22],[105,41,105,43],[107,7,107,9],[107,10,107,11],[107,21,107,22],[107,41,107,43],[107,45,107,51],[111,10,111,11],[111,20,111,21],[111,31,111,32],[111,41,111,43],[113,7,113,9],[113,10,113,11],[113,20,113,21],[113,31,113,32],[113,41,113,43],[116,10,116,11],[116,41,116,43],[118,7,118,9],[118,10,118,11],[118,41,118,43],[127,2,127,3],[127,14,127,15],[129,2,129,3],[129,14,129,15],[129,41,129,51],[135,45,135,51],[141,11,141,51],[145,2,145,10],[145,11,145,23],[145,24,145,26],[145,27,145,35],[145,36,145,48],[145,49,145,51],[146,2,146,10],[146,11,146,23],[146,24,146,26],[146,27,146,35],[146,36,146,48],[146,49,146,51],[150,2,153,51],[156,1,156,51],[160,10,160,17],[160,23,160,27],[160,34,160,35],[160,47,160,48],[163,10,163,11],[163,12,163,30],[163,31,163,32],[163,47,163,50],[165,10,165,11],[172,17,173,22],[172,23,172,27],[172,28,172,34],[172,40,172,46],[173,23,173,27],[173,28,173,31],[173,32,173,34],[173,35,173,39],[173,40,173,46],[173,47,173,51],[175,18,175,20],[175,24,175,26],[178,18,178,20],[178,24,178,26],[182,2,187,51],[191,2,192,16],[191,17,192,19],[191,20,191,22],[191,23,191,25],[191,26,191,27],[191,28,191,30],[191,31,191,33],[191,34,191,35],[191,36,191,38],[191,39,191,41],[191,42,192,44],[191,45,192,47],[191,48,191,51],[192,20,192,22],[192,23,192,25],[192,26,192,27],[192,28,192,30],[192,31,192,33],[192,34,192,35],[192,36,192,38],[192,39,192,41],[192,48,192,51],[193,2,193,16],[193,17,193,19],[193,20,193,22],[193,23,193,25],[193,26,193,27],[193,28,193,30],[193,31,193,33],[193,34,193,35],[193,36,193,38],[193,39,193,41],[193,42,193,44],[193,45,193,47],[193,48,193,51],[194,2,194,16],[194,17,194,19],[194,20,194,22],[194,23,194,25],[194,26,194,27],[194,28,194,30],[194,31,194,33],[194,34,194,35],[194,36,194,38],[194,39,194,41],[194,42,194,44],[194,45,194,47],[194,48,194,51],[195,2,195,16],[195,17,195,19],[195,20,195,22],[195,23,195,25],[195,26,195,27],[195,28,195,30],[195,31,195,33],[195,34,195,35],[195,36,195,38],[195,39,195,41],[195,42,195,44],[195,45,195,47],[195,48,195,51],[196,2,196,16],[196,17,196,19],[196,20,196,22],[196,23,196,25],[196,26,196,27],[196,28,196,30],[196,31,196,33],[196,34,196,35],[196,36,196,38],[196,39,196,41],[196,42,196,44],[196,45,196,47],[196,48,196,51],[197,2,197,16],[197,17,197,19],[197,20,197,22],[197,23,197,25],[197,26,197,27],[197,28,197,30],[197,31,197,33],[197,34,197,35],[197,36,197,38],[197,39,197,41],[197,42,197,44],[197,45,197,47],[197,48,197,51],[198,2,198,16],[198,17,198,19],[198,20,198,22],[198,23,198,25],[198,26,198,27],[198,28,198,30],[198,31,198,33],[198,34,198,35],[198,36,198,38],[198,39,198,41],[198,42,198,44],[198,45,198,47],[198,48,198,51],[199,2,199,16],[199,17,199,19],[199,20,199,22],[199,23,199,25],[199,26,199,27],[199,28,199,30],[199,31,199,33],[199,34,199,35],[199,36,199,38],[199,39,199,41],[199,42,199,44],[199,45,199,47],[199,48,199,51],[200,2,200,16],[200,17,200,19],[200,20,200,22],[200,23,200,25],[200,26,200,27],[200,28,200,30],[200,31,200,33],[200,34,200,35],[200,36,200,38],[200,39,200,41],[200,42,200,44],[200,45,200,47],[200,48,200,51],[201,2,201,16],[201,17,201,19],[201,20,201,22],[201,23,201,25],[201,26,201,27],[201,28,201,30],[201,31,201,33],[201,34,201,35],[201,36,201,38],[201,39,201,41],[201,42,201,44],[201,45,201,47],[201,48,201,51],[202,2,202,16],[202,17,202,19],[202,20,202,22],[202,23,202,25],[202,26,202,27],[202,28,202,30],[202,31,202,33],[202,34,202,35],[202,36,202,38],[202,39,202,41],[202,42,202,44],[202,45,202,47],[202,48,202,51],[203,2,203,16],[203,17,203,19],[203,20,203,22],[203,23,203,25],[203,26,203,27],[203,28,203,30],[203,31,203,33],[203,34,203,35],[203,36,203,38],[203,39,203,41],[203,42,203,44],[203,45,203,47],[203,48,203,51],[204,2,204,16],[204,17,204,19],[204,20,204,22],[204,23,204,25],[204,26,204,27],[204,28,204,30],[204,31,204,33],[204,34,204,35],[204,36,204,38],[204,39,204,41],[204,42,204,44],[204,45,204,47],[204,48,204,51],[205,2,205,16],[205,17,205,19],[205,20,205,22],[205,23,205,25],[205,26,205,27],[205,28,205,30],[205,31,205,33],[205,34,205,35],[205,36,205,38],[205,39,205,41],[205,42,205,44],[205,45,205,47],[205,48,205,51],[206,2,206,16],[206,17,206,19],[206,20,206,22],[206,23,206,25],[206,26,206,27],[206,28,206,30],[206,31,206,33],[206,34,206,35],[206,36,206,38],[206,39,206,41],[206,42,206,44],[206,45,206,47],[206,48,206,51],[207,2,207,16],[207,17,207,19],[207,20,207,22],[207,23,207,25],[207,26,207,27],[207,28,207,30],[207,31,207,33],[207,34,207,35],[207,36,207,38],[207,39,207,41],[207,42,207,44],[207,45,207,47],[207,48,207,51],[208,2,208,16],[208,17,208,19],[208,20,208,22],[208,23,208,25],[208,26,208,27],[208,28,208,30],[208,31,208,33],[208,34,208,35],[208,36,208,38],[208,39,208,41],[208,42,208,44],[208,45,208,47],[208,48,208,51],[209,2,209,16],[209,17,209,19],[209,20,209,22],[209,23,209,25],[209,26,209,27],[209,28,209,30],[209,31,209,33],[209,34,209,35],[209,36,209,38],[209,39,209,41],[209,42,209,44],[209,45,209,47],[209,48,209,51],[210,2,210,16],[210,17,210,19],[210,20,210,22],[210,23,210,25],[210,26,210,27],[210,28,210,30],[210,31,210,33],[210,34,210,35],[210,36,210,38],[210,39,210,41],[210,42,210,44],[210,45,210,47],[210,48,210,51],[211,2,211,16],[211,17,211,19],[211,20,211,22],[211,23,211,25],[211,26,211,27],[211,28,211,30],[211,31,211,33],[211,34,211,35],[211,36,211,38],[211,39,211,41],[211,42,211,44],[211,45,211,47],[211,48,211,51],[212,2,212,16],[212,17,212,19],[212,20,212,22],[212,23,212,25],[212,26,212,27],[212,28,212,30],[212,31,212,33],[212,34,212,35],[212,36,212,38],[212,39,212,41],[212,42,212,44],[212,45,212,47],[212,48,212,51],[213,2,213,16],[213,17,213,19],[213,20,213,22],[213,23,213,25],[213,26,213,27],[213,28,213,30],[213,31,213,33],[213,34,213,35],[213,36,213,38],[213,39,213,41],[213,42,213,44],[213,45,213,47],[213,48,213,51],[214,2,214,16],[214,17,214,19],[214,20,214,22],[214,23,214,25],[214,26,214,27],[214,28,214,30],[214,31,214,33],[214,34,214,35],[214,36,214,38],[214,39,214,41],[214,42,214,44],[214,45,214,47],[214,48,214,51],[215,2,215,16],[215,17,215,19],[215,20,215,22],[215,23,215,25],[215,26,215,27],[215,28,215,30],[215,31,215,33],[215,34,215,35],[215,36,215,38],[215,39,215,41],[215,42,215,44],[215,45,215,47],[215,48,215,51],[216,2,216,16],[216,17,216,19],[216,20,216,22],[216,23,216,25],[216,26,216,27],[216,28,216,30],[216,31,216,33],[216,34,216,35],[216,36,216,38],[216,39,216,41],[216,42,216,44],[216,45,216,47],[216,48,216,51],[217,2,217,16],[217,17,217,19],[217,20,217,22],[217,23,217,25],[217,26,217,27],[217,28,217,30],[217,31,217,33],[217,34,217,35],[217,36,217,38],[217,39,217,41],[217,42,217,44],[217,45,217,47],[217,48,217,51],[218,2,218,16],[218,17,218,19],[218,20,218,22],[218,23,218,25],[218,26,218,27],[218,28,218,30],[218,31,218,33],[218,34,218,35],[218,36,218,38],[218,39,218,41],[218,42,218,44],[218,45,218,47],[218,48,218,51],[219,2,219,16],[219,17,219,19],[219,20,219,22],[219,23,219,25],[219,26,219,27],[219,28,219,30],[219,31,219,33],[219,34,219,35],[219,36,219,38],[219,39,219,41],[219,42,219,44],[219,45,219,47],[219,48,219,51]]}
[null,"Version 2015-06-16",{"$nulls":6},"© Fischereiforschungsstelle B.-W.",{"$nulls":8},"Protokoll E-Befischung"]
[]
[null,"Anlass:",{"$nulls":49},{"$f":"Backup!D2","v":1}]
[]
[null,"Bearbeiter:",{"$nulls":25},"Straße:"]
[]
[{"$nulls":27},"PLZ, Ort:"]
[]
[{"$nulls":7},"Tel.:",{"$nulls":19},"E-Mail:"]
[{"$nulls":13},"Charakterisierung der Probestrecke:"]
[]
[null,"Gewässername:",{"$nulls":21},"Ortsangabe:",{"$nulls":20},"Datum (TT.MM.JJJJ):"]
[]
[]
[null,"Vorfluter:",{"$nulls":4},"®",{"$nulls":8},"®",{"$nulls":9},"®",{"$nulls":8},"®",{"$nulls":8},"®"]
[{"$nulls":8},{"$f":"IF(OR($B$13=\"Rhein\",$B$13=\"Donau\",$I$15<>\"\"),0,1)","v":1},{"$nulls":8},{"$f":"IF(OR($I$15=\"Rhein\",$I$15=\"Donau\",$I$15=\"\",$R$15<>\"\"),0,1)","v":0},{"$nulls":9},{"$f":"IF(OR($R$15=\"Rhein\",$R$15=\"Donau\",$R$15=\"\",$AB$15<>\"\"),0,1)","v":0},{"$nulls":7},{"$f":"IF(OR($AB$15=\"Rhein\",$AB$15=\"Donau\",$AB$15=\"\",$AJ$15<>\"\"),0,1)","v":0},{"$nulls":9},{"$f":"IF(OR($AJ$15=\"Rhein\",$AJ$15=\"Donau\",$AJ$15=\"\",$AT$15<>\"\"),0,1)","v":0}]
[null,"Grenzen der Probestrecke:",{"$nulls":32},"Gauß-Krüger-Rechtswert",{"$nulls":8},"Gauß-Krüger-Hochwert"]
[]
[null,"untere:"]
[null,"obere:"]
[]
[null,"WRRL-Probestellen-Nr.:",{"$nulls":9},"TK 25-Blätter:",{"$nulls":21},"*"]
[]
[]
[null,"Gewässertyp:"]
[{"$nulls":51},{"$f":"Backup!D31","v":1}]
[]
[null,"Probestrecke, Länge:",{"$nulls":9},"mittlere Höhe ü. NN: ",{"$nulls":8},"*",null,"FFH-Gebiet Nr.: ",{"$nulls":7},"*",null,"WK-Nr.:",{"$nulls":6},"*"]
[null,"ca.",{"$nulls":7},"m",null,"ca.",{"$nulls":7},"m"]
[]
[]
[]
[null,"Uhrzeit (hh:mm):",{"$nulls":9},"Wassertemperatur:",{"$nulls":10},"Leitfähigkeit:",{"$nulls":9},"Sichttiefe, geschätzt:",{"$nulls":6},"#",null,null,"#","Bei Sicht auf den Grund in der gesamten Probestrecke, bitte deren Maximaltiefe angeben!"]
[{"$nulls":18},"° C",{"$nulls":8},"µS/cm",{"$nulls":9},"cm"]
[]
[]
[null," Regenfälle:",{"$nulls":49},{"$f":"Backup!D47","v":1}]
[]
[]
[null," Trübung:",{"$nulls":49},{"$f":"Backup!D50","v":1}]
[]
[]
[null," Schaumbildung:",{"$nulls":49},{"$f":"Backup!D53","v":1}]
[]
[null,"Hydrologie:**",{"$nulls":49},{"$f":"IF(SUM(Backup!B35:B38)=0,1,0)","v":1}]
[]
[null," mittlere Breite:",{"$nulls":48},"m",{"$f":"Backup!D56","v":1}]
[]
[{"$nulls":15},"Schätzwert: ",{"$nulls":3}," m"]
[]
[]
[null," mittlere Tiefe:",{"$nulls":48},"m",{"$f":"Backup!D64","v":1}]
[]
[{"$nulls":15},"Schätzwert: ",{"$nulls":3}," m"]
[]
[]
[null," Tiefenvarianz:***",{"$nulls":49},{"$f":"Backup!D72","v":1}]
[]
[]
[null," Linienführung:***",{"$nulls":49},{"$f":"Backup!D77","v":1}]
[]
[]
[null," Strömung:***"]
[{"$nulls":51},{"$f":"Backup!D82","v":1}]
[]
[]
[null," Fließgeschwindigkeit:",{"$nulls":48},"m/s",{"$f":"Backup!D88","v":1}]
[]
[]
[null," Wasserführung:",{"$nulls":49},{"$f":"Backup!D94","v":1}]
[]
[]
[null," Stillwasserbereiche:",{"$nulls":48},"%",{"$f":"Backup!D97","v":1}]
[]
[]
[null," Gesamtprofil:",{"$nulls":49},{"$f":"Backup!D102","v":1}]
[]
[null,null,"*",null,"Angabe freiwillig",{"$nulls":5},"**","nur für Fließgewässer auszufüllen",{"$nulls":13},"***","Mehrfachauswahl möglich"]
[null,"Umland:",{"$nulls":5},{"$f":"IF(OR(AZ84=0,AZ84=100),\"\",AZ84 & \" %\")","v":""}]
[]
[{"$nulls":4}," % Nadelwald",{"$nulls":10}," % Mischwald",{"$nulls":12}," % Laubwald",{"$nulls":14}," % Auwald"]
[]
[{"$nulls":4}," % Wiese / Weide",{"$nulls":10}," % Kulturland / Acker",{"$nulls":12}," % Feuchtgebiet / Moor",{"$nulls":14}," % Siedlungsgebiet"]
[{"$nulls":51},{"$f":"Backup!F113","v":0}]
[null,"Ufer:"]
[]
[null," Randstreifen:**",{"$nulls":49},{"$f":"Backup!D114","v":1}]
[]
[]
[null," Neigung:",{"$nulls":5},{"$f":"IF(OR(AZ91=0,AZ91=100),\"\",AZ91 & \" %\")","v":""},{"$nulls":4}," % Flachufer, 0-20°",{"$nulls":10}," % Schrägufer, 20-60°",{"$nulls":10}," % Abbruch, 60-90°",{"$nulls":9}," % Unterspülung, >90°"]
[{"$nulls":51},{"$f":"Backup!F120","v":0}]
[]
[null," Streckenanteil mit geschüttetem Damm:",{"$nulls":21}," % ",{"$nulls":7},"Neigung ca.",null,null," °"]
[]
[]
[null," Uferanteil mit ins Wasser ragenden Wurzeln von Bäumen:",{"$nulls":32}," %"]
[]
[]
[null," Uferbewuchs oberhalb der Wasserlinie:",{"$nulls":21}," % ohne",{"$nulls":10}," % Gräser",{"$nulls":9}," % Schilf / Rohr"]
[]
[{"$nulls":7},{"$f":"IF(OR(AZ104=0,AZ104=100),\"\",AZ104 & \" %\")","v":""},{"$nulls":15}," % krautige Blattpflanzen",{"$nulls":10}," % Sträucher",{"$nulls":9}," % Weiden"]
[]
[{"$nulls":23}," % Erlen",{"$nulls":10}," % andere Bäume",{"$nulls":9}," %"]
[{"$nulls":51},{"$f":"Backup!F133","v":0}]
[]
[null," Uferverbauung:",{"$nulls":10}," % keine (erkennbar)",{"$nulls":10}," % Mauer/Pflaster, unverfugt",{"$nulls":11}," % Faschinen",{"$nulls":8}," % Drahtnetze"]
[]
[{"$nulls":7},{"$f":"IF(OR(AZ109=0,AZ109=100),\"\",AZ109 & \" %\")","v":""},{"$nulls":4}," % überwachsen",{"$nulls":10}," % Mauer/Pflaster, verfugt",{"$nulls":11}," % Steinwurf",{"$nulls":8}," %"]
[{"$nulls":51},{"$f":"Backup!F142","v":0}]
[null,"Gewässersohle, Substrate:"]
[]
[null," Substratverteilung:",{"$nulls":10}," % Schlamm",{"$nulls":9}," % Lehm / Ton",{"$nulls":10}," % sonstiges Erdreich",{"$nulls":10}," % Sand (<2 mm)"]
[]
[{"$nulls":7},{"$f":"IF(OR(AZ115=0,AZ115=100),\"\",AZ115 & \" %\")","v":""},{"$nulls":4}," % Kies (>2 mm)",{"$nulls":9}," % Grobkies (>20 mm)",{"$nulls":10}," % Steine (>63 mm)",{"$nulls":10}," % Felsen (>50 cm)"]
[{"$nulls":51},{"$f":"Backup!F151","v":0}]
[]
[null," Sohlverbauung:**",{"$nulls":10}," % keine (erkennbar)",{"$nulls":16}," % Rasensteine",{"$nulls":14}," % Drahtnetze"]
[]
[{"$nulls":7},{"$f":"IF(OR(AZ120=0,AZ120=100),\"\",AZ120 & \" %\")","v":""},{"$nulls":4}," % Steinschüttung",{"$nulls":16}," % Pflasterung",{"$nulls":14}," % Betonschale",{"$nulls":6},{"$f":"Backup!D152","v":1}]
[{"$nulls":51},{"$f":"Backup!F157","v":0}]
[]
[null," Besonderheiten:"]
[]
[null,"Natürliche Strukturen im Wasser:"]
[]
[null," Semiquantitative Angaben:",{"$nulls":23},"0 = keine",{"$nulls":5},"1 = wenig",{"$nulls":10},"2 = verbreitet",{"$nulls":7},"3 = dominierend"]
[]
[{"$nulls":4}," Totholz",{"$nulls":11}," Wurzeln",{"$nulls":11}," ins Wasser hängende Äste",{"$nulls":11}," Schilf / Röhricht"]
[]
[{"$nulls":4}," submerse Makrophyten",{"$nulls":11}," Schwimmblattpflanzen",{"$nulls":11}," emerse Makrophyten"]
[]
[null,"Nutzungsbedingte Einflüsse:"]
[]
[]
[]
[]
[{"$nulls":51},{"$f":"Backup!D171","v":1}]
[null,"Fischereiliche Bewirtschaftung:"]
[]
[]
[]
[null,null,"Fischereiberechtigter:"]
[{"$nulls":11},"Verein / Ansprechpartner mit Tel.-Nr. und ggf. E-Mail-Adresse"]
[null," Besatzmaßnahmen:"]
[null,null,"Fischart:",{"$nulls":8},"Größenklasse(n):",{"$nulls":12},"Jahr:",null,null,"Fischart:",{"$nulls":8},"Größenklasse(n):",{"$nulls":12},"Jahr:"]
[]
[]
[]
[null,"Sontiges:"]
[]
[]
[]
[]
[]
[]
[null,null,"**"," nur für Fließgewässer auszufüllen"]
[null,"Fischbestandserhebung:"]
[]
[null,"Eingesetzte Ausrüstung:"]
[]
[null," E-Gerät, Hersteller:",{"$nulls":17},"Modell:",{"$nulls":13},"Spannung:",null,null," V",{"$nulls":9},"Ausgangsleistung:",null,null," kW"]
[]
[]
[null," Anzahl Anoden:",{"$nulls":10}," Ringanode(n) mit einem Durchmesser von",{"$nulls":20}," cm",{"$nulls":12},"Kathodentyp:"]
[]
[{"$nulls":12}," Streifenanode(n)"]
[]
[]
[null," begleitend:"]
[]
[null,"Befischte Bereiche:"]
[]
[{"$nulls":17},"Strecke",{"$nulls":5},"effektiv",{"$nulls":4},"Richtung",{"$nulls":11},"Methode"]
[{"$nulls":23},"befischte Breite",{"$nulls":4},"stromauf",{"$nulls":3},"stromab",null,null,"vom Boot",{"$nulls":4},"watend",{"$nulls":6},"vom Ufer"]
[]
[null,null,"Über die gesamte Gewässerbreite:",{"$nulls":18}," m",{"$nulls":5}," m",{"$nulls":6},{"$f":"Backup!D217","v":0},{"$nulls":16},{"$f":"Backup!D219","v":0}]
[]
[]
[null,null,"entlang der Ufer:",{"$nulls":18}," m",{"$nulls":5}," m",{"$nulls":6},{"$f":"Backup!D224","v":0},{"$nulls":16},{"$f":"Backup!D226","v":0}]
[]
[]
[null,null,"Ergänzende Anmerkungen zur Befischung oder zum Fischbestand:"]
{"$rows_empty":7}
[null,"Nachgewiesene Arten und Größenklassen (cm):"]
[]
[null,null,"Art",{"$nulls":14},"≤ 5",null,null,">5",null,null,">10",null,null,">15",null,">20",null,null,">25",null,null,">30",null,">40",null,null,">50",null,null,"> 60",null,null,"Σ",null,null,"davon"]
[{"$nulls":20},"- 10",null,null,"- 15",null,null,"- 20",null,"- 25",null,null,"- 30",null,null,"- 40",null,"- 50",null,null,"- 60",{"$nulls":8},"0+ *"]
[{"$nulls":45},{"$f":"IF(AND(C194<>\"\",C194<>\"Kein Nachweis, Fische\",C194<>\"Kein Nachweis, Krebse\",C194<>\"Kein Nachweis\"),SUM(R194:AS194),\"\")","v":""}]
[{"$nulls":45},{"$f":"IF(AND(C195<>\"\",C195<>\"Kein Nachweis, Fische\",C195<>\"Kein Nachweis, Krebse\",C195<>\"Kein Nachweis\"),SUM(R195:AS195),\"\")","v":""}]
[{"$nulls":45},{"$f":"IF(AND(C196<>\"\",C196<>\"Kein Nachweis, Fische\",C196<>\"Kein Nachweis, Krebse\",C196<>\"Kein Nachweis\"),SUM(R196:AS196),\"\")","v":""}]
[{"$nulls":45},{"$f":"IF(C197<>\"\",SUM(R197:AS197),\"\")","v":""}]
[{"$nulls":45},""]
[{"$nulls":45},""]
[{"$nulls":45},""]
[{"$nulls":45},""]
[{"$nulls":45},""]
[{"$nulls":45},""]
[{"$nulls":45},""]
[{"$nulls":45},""]
[{"$nulls":45},""]
[{"$nulls":45},""]
[{"$nulls":45},""]
[{"$nulls":45},""]
[{"$nulls":45},""]
[{"$nulls":45},""]
[{"$nulls":45},""]
[{"$nulls":45},""]
[{"$nulls":45},""]
[{"$nulls":45},""]
[{"$nulls":45},""]
[{"$nulls":45},""]
[{"$nulls":45},""]
[{"$nulls":45},""]
[{"$nulls":45},""]
[null,null,"* Individuen der Altersklasse 0+ sind bereits während der Befischung artspezifisch zu identifizieren und getrennt zu protokollieren!"]
[null,"Kartenausschnitt mit eingezeichneten Grenzen der Probestrecke:"]

{"sheet":"Listen","index":1,"n_rows":119,"n_cols":16,"rows_kept":119,"hidden":true}
["Adresskopf",null,"changed","Liste Kathoden","Liste Arten_1","ArtenArray_1 für Private Sub UserForm","Liste Arten_2","ArtenArray_2 für Private Sub UserForm","Liste Mon.St.Nr. WRRL","Gewaesser","Ort","Vorfluter_1","Vorfluter_2","Vorfluter_3","Vorfluter_4","Vorfluter_5"]
["Bearbeiter_1",null,{"$f":"IF('Protokoll E-Befischung'!H5<>Listen!B2,1,0)","v":0},null,null,{"$f":"CONCATENATE(\"ArtenArray(\",ROW(E2)-2,\", 0) = \") & CONCATENATE(\"\"\"\",E2,\"\"\"\")","v":"ArtenArray(0, 0) = \"\""},null,{"$f":"CONCATENATE(\"ArtenArray(\",ROW(G2)-2,\", 1) = \") & CONCATENATE(\"\"\"\",G2,\"\"\"\")","v":"ArtenArray(0, 1) = \"\""}]
["Bearbeiter_2",null,{"$f":"IF('Protokoll E-Befischung'!H7<>Listen!B3,1,0)","v":0},"Kupferlitze","Aal",{"$f":"CONCATENATE(\"ArtenArray(\",ROW(E3)-2,\", 0) = \") & CONCATENATE(\"\"\"\",E3,\"\"\"\")","v":"ArtenArray(1, 0) = \"Aal\""},"(Anguilla anguilla)",{"$f":"CONCATENATE(\"ArtenArray(\",ROW(G3)-2,\", 1) = \") & CONCATENATE(\"\"\"\",G3,\"\"\"\")","v":"ArtenArray(1, 1) = \"(Anguilla anguilla)\""}]
["Strasse",null,{"$f":"IF('Protokoll E-Befischung'!AF5<>Listen!B4,1,0)","v":0},"Drahtseil","Aland / Nerfling",{"$f":"CONCATENATE(\"ArtenArray(\",ROW(E4)-2,\", 0) = \") & CONCATENATE(\"\"\"\",E4,\"\"\"\")","v":"ArtenArray(2, 0) = \"Aland / Nerfling\""},"(Leuciscus idus)","ArtenArray(2, 1) = \"(Leuciscus idus)\""]
["PLZ_Ort",null,{"$f":"IF('Protokoll E-Befischung'!AF7<>Listen!B5,1,0)","v":0},"Anderer","Äsche",{"$f":"CONCATENATE(\"ArtenArray(\",ROW(E5)-2,\", 0) = \") & CONCATENATE(\"\"\"\",E5,\"\"\"\")","v":"ArtenArray(3, 0) = \"Äsche\""},"(Thymallus thymallus)","ArtenArray(3, 1) = \"(Thymallus thymallus)\""]
["Tel",null,{"$f":"IF('Protokoll E-Befischung'!K9<>Listen!B6,1,0)","v":0},null,"Bachforelle","ArtenArray(4, 0) = \"Bachforelle\"","(Salmo trutta fario)","ArtenArray(4, 1) = \"(Salmo trutta fario)\""]
["Email",null,{"$f":"IF('Protokoll E-Befischung'!AF9<>Listen!B7,1,0)","v":0},null,"Bachneunauge","ArtenArray(5, 0) = \"Bachneunauge\"","(Lampetra planeri)","ArtenArray(5, 1) = \"(Lampetra planeri)\""]
[null,null,{"$f":"SUM(C2:C7)","v":0},null,"Bachneunauge, adult","ArtenArray(6, 0) = \"Bachneunauge, adult\"","(Lampetra planeri)","ArtenArray(6, 1) = \"(Lampetra planeri)\""]
["Marker für CommandButton1 in frmBefehle:",{"$nulls":3},"Bachneunauge, Querder","ArtenArray(7, 0) = \"Bachneunauge, Querder\"","(Lampetra planeri)","ArtenArray(7, 1) = \"(Lampetra planeri)\""]
["Makrowarnung, Link (ohne VBA-Relevanz):",null,"http://www.t-online.de/computer/software/office/id_15177082/makros-in-microsoft-office-aktivieren.html",null,"Bachsaibling","ArtenArray(8, 0) = \"Bachsaibling\"","(Salvelinus fontinalis)","ArtenArray(8, 1) = \"(Salvelinus fontinalis)\""]
["Marker: Change-Ereignis bei eingelesener *.efi:",{"$nulls":3},"Barbe","ArtenArray(9, 0) = \"Barbe\"","(Barbus barbus)","ArtenArray(9, 1) = \"(Barbus barbus)\""]
[{"$nulls":4},"Barsch / Flussbarsch","ArtenArray(10, 0) = \"Barsch / Flussbarsch\"","(Perca fluviatilis)","ArtenArray(10, 1) = \"(Perca fluviatilis)\""]
[{"$nulls":4},"Bitterling","ArtenArray(11, 0) = \"Bitterling\"","(Rhodeus amarus)","ArtenArray(11, 1) = \"(Rhodeus amarus)\""]
[{"$nulls":4},"Blaubandbärbling","ArtenArray(12, 0) = \"Blaubandbärbling\"","(Pseudorasbora parva)","ArtenArray(12, 1) = \"(Pseudorasbora parva)\""]
[{"$nulls":4},"Brachse / Blei","ArtenArray(13, 0) = \"Brachse / Blei\"","(Abramis brama)","ArtenArray(13, 1) = \"(Abramis brama)\""]
[{"$nulls":4},"Döbel / Aitel","ArtenArray(14, 0) = \"Döbel / Aitel\"","(Leuciscus cephalus)","ArtenArray(14, 1) = \"(Leuciscus cephalus)\""]
[{"$nulls":4},"Dohlenkrebs","ArtenArray(15, 0) = \"Dohlenkrebs\"","(Austropotamobius pallipes)","ArtenArray(15, 1) = \"(Austropotamobius pallipes)\""]
[{"$nulls":4},"Dreistachliger Stichling, Binnenform","ArtenArray(16, 0) = \"Dreistachliger Stichling, Binnenform\"","(Gasterosteus aculeatus)","ArtenArray(16, 1) = \"(Gasterosteus aculeatus)\""]
[{"$nulls":4},"Dreistachliger Stichling, Wanderform","ArtenArray(17, 0) = \"Dreistachliger Stichling, Wanderform\"","(Gasterosteus aculeatus)","ArtenArray(17, 1) = \"(Gasterosteus aculeatus)\""]
[{"$nulls":4},"Edelkrebs","ArtenArray(18, 0) = \"Edelkrebs\"","(Astacus astacus)","ArtenArray(18, 1) = \"(Astacus astacus)\""]
[{"$nulls":4},"Elritze","ArtenArray(19, 0) = \"Elritze\"","(Phoxinus phoxinus)","ArtenArray(19, 1) = \"(Phoxinus phoxinus)\""]
[{"$nulls":4},"Elsässer Saibling","ArtenArray(20, 0) = \"Elsässer Saibling\"","(Seesaibling x Bachsaibling)","ArtenArray(20, 1) = \"(Seesaibling x Bachsaibling)\""]
[{"$nulls":4},"Felchen / Maräne / Renke","ArtenArray(21, 0) = \"Felchen / Maräne / Renke\"","(Coregonus spec.)","ArtenArray(21, 1) = \"(Coregonus spec.)\""]
[{"$nulls":4},"Finte","ArtenArray(22, 0) = \"Finte\"","(Alosa fallax)","ArtenArray(22, 1) = \"(Alosa fallax)\""]
[{"$nulls":4},"Flunder","ArtenArray(23, 0) = \"Flunder\"","(Platichthys flesus)","ArtenArray(23, 1) = \"(Platichthys flesus)\""]
[{"$nulls":4},"Flussgrundel","ArtenArray(24, 0) = \"Flussgrundel\"","(Neogobius fluviatilis)","ArtenArray(24, 1) = \"(Neogobius fluviatilis)\""]
[{"$nulls":4},"Flusskrebs (unbestimmt)","ArtenArray(25, 0) = \"Flusskrebs (unbestimmt)\"",null,"ArtenArray(25, 1) = \"\""]
[{"$nulls":4},"Flussmuschel, Große","ArtenArray(26, 0) = \"Flussmuschel, Große\"","(Unio tumidus)","ArtenArray(26, 1) = \"(Unio tumidus)\""]
[{"$nulls":4},"Flussmuschel, Kleine / Bachmuschel","ArtenArray(27, 0) = \"Flussmuschel, Kleine / Bachmuschel\"","(Unio crassus)","ArtenArray(27, 1) = \"(Unio crassus)\""]
[{"$nulls":4},"Flussneunauge","ArtenArray(28, 0) = \"Flussneunauge\"","(Lampetra fluviatilis)","ArtenArray(28, 1) = \"(Lampetra fluviatilis)\""]
[{"$nulls":4},"Flussperlmuschel","ArtenArray(29, 0) = \"Flussperlmuschel\"","(Margaritifera margaritifera)","ArtenArray(29, 1) = \"(Margaritifera margaritifera)\""]
[{"$nulls":4},"Frauennerfling","ArtenArray(30, 0) = \"Frauennerfling\"","(Leuciscus pigus virgo)","ArtenArray(30, 1) = \"(Leuciscus pigus virgo)\""]
[{"$nulls":4},"Galizier / Sumpfkrebs, Galizischer","ArtenArray(31, 0) = \"Galizier / Sumpfkrebs, Galizischer\"","(Astacus leptodactylus)","ArtenArray(31, 1) = \"(Astacus leptodactylus)\""]
[{"$nulls":4},"Giebel","ArtenArray(32, 0) = \"Giebel\"","(Carassius gibelio)","ArtenArray(32, 1) = \"(Carassius gibelio)\""]
[{"$nulls":4},"Goldfisch","ArtenArray(33, 0) = \"Goldfisch\"","(Carassius auratus)","ArtenArray(33, 1) = \"(Carassius auratus)\""]
[{"$nulls":4},"Goldsteinbeißer","ArtenArray(34, 0) = \"Goldsteinbeißer\"","(Sabanejewia balcanica)","ArtenArray(34, 1) = \"(Sabanejewia balcanica)\""]
[{"$nulls":4},"Graskarpfen","ArtenArray(35, 0) = \"Graskarpfen\"","(Ctenopharyngodon idella)","ArtenArray(35, 1) = \"(Ctenopharyngodon idella)\""]
[{"$nulls":4},"Groppe / Mühlkoppe","ArtenArray(36, 0) = \"Groppe / Mühlkoppe\"","(Cottus gobio)","ArtenArray(36, 1) = \"(Cottus gobio)\""]
[{"$nulls":4},"Gründling","ArtenArray(37, 0) = \"Gründling\"","(Gobio gobio)","ArtenArray(37, 1) = \"(Gobio gobio)\""]
[{"$nulls":4},"Güster","ArtenArray(38, 0) = \"Güster\"","(Abramis bjoerkna)","ArtenArray(38, 1) = \"(Abramis bjoerkna)\""]
[{"$nulls":4},"Hasel","ArtenArray(39, 0) = \"Hasel\"","(Leuciscus leuciscus)","ArtenArray(39, 1) = \"(Leuciscus leuciscus)\""]
[{"$nulls":4},"Hecht","ArtenArray(40, 0) = \"Hecht\"","(Esox lucius)","ArtenArray(40, 1) = \"(Esox lucius)\""]
[{"$nulls":4},"Huchen","ArtenArray(41, 0) = \"Huchen\"","(Hucho hucho)","ArtenArray(41, 1) = \"(Hucho hucho)\""]
[{"$nulls":4},"Kalikokrebs","ArtenArray(42, 0) = \"Kalikokrebs\"","(Orconectes immunis)","ArtenArray(42, 1) = \"(Orconectes immunis)\""]
[{"$nulls":4},"Kamberkrebs","ArtenArray(43, 0) = \"Kamberkrebs\"","(Orconectes limosus)","ArtenArray(43, 1) = \"(Orconectes limosus)\""]
[{"$nulls":4},"Karausche","ArtenArray(44, 0) = \"Karausche\"","(Carassius carassius)","ArtenArray(44, 1) = \"(Carassius carassius)\""]
[{"$nulls":4},"Karpfen","ArtenArray(45, 0) = \"Karpfen\"","(Cyprinus carpio)","ArtenArray(45, 1) = \"(Cyprinus carpio)\""]
[{"$nulls":4},"Kärpfling","ArtenArray(46, 0) = \"Kärpfling\"","(Gambusia spec.)","ArtenArray(46, 1) = \"(Gambusia spec.)\""]
[{"$nulls":4},"Kaulbarsch","ArtenArray(47, 0) = \"Kaulbarsch\"","(Gymnocephalus cernuus)","ArtenArray(47, 1) = \"(Gymnocephalus cernuus)\""]
[{"$nulls":4},"Kein Nachweis","ArtenArray(48, 0) = \"Kein Nachweis\"","(Bestandsaufnahme ohne Nachweis)","ArtenArray(48, 1) = \"(Bestandsaufnahme ohne Nachweis)\""]
[{"$nulls":4},"Kein Nachweis, Fische","ArtenArray(49, 0) = \"Kein Nachweis, Fische\"","(Fischbestandsaufnahme o. Nachweis)","ArtenArray(49, 1) = \"(Fischbestandsaufnahme o. Nachweis)\""]
[{"$nulls":4},"Kein Nachweis, Krebse","ArtenArray(50, 0) = \"Kein Nachweis, Krebse\"","(Krebsbestandsaufnahme o. Nachweis)","ArtenArray(50, 1) = \"(Krebsbestandsaufnahme o. Nachweis)\""]
[{"$nulls":4},"Kesslergrundel","ArtenArray(51, 0) = \"Kesslergrundel\"","(Neogobius kessleri)","ArtenArray(51, 1) = \"(Neogobius kessleri)\""]
[{"$nulls":4},"Koi-Karpfen","ArtenArray(52, 0) = \"Koi-Karpfen\"",null,"ArtenArray(52, 1) = \"\""]
[{"$nulls":4},"Lachs, Atlantischer","ArtenArray(53, 0) = \"Lachs, Atlantischer\"","(Salmo salar)","ArtenArray(53, 1) = \"(Salmo salar)\""]
[{"$nulls":4},"Maifisch","ArtenArray(54, 0) = \"Maifisch\"","(Alosa alosa)","ArtenArray(54, 1) = \"(Alosa alosa)\""]
[{"$nulls":4},"Mairenke","ArtenArray(55, 0) = \"Mairenke\"","(Chalcalburnus chalcoides mento)","ArtenArray(55, 1) = \"(Chalcalburnus chalcoides mento)\""]
[{"$nulls":4},"Malermuschel","ArtenArray(56, 0) = \"Malermuschel\"","(Unio pictorum)","ArtenArray(56, 1) = \"(Unio pictorum)\""]
[{"$nulls":4},"Marmorgrundel","ArtenArray(57, 0) = \"Marmorgrundel\"","(Proterorhinus marmoratus)","ArtenArray(57, 1) = \"(Proterorhinus marmoratus)\""]
[{"$nulls":4},"Marmorkarpfen","ArtenArray(58, 0) = \"Marmorkarpfen\"","(Hypophthalmichthys nobilis)","ArtenArray(58, 1) = \"(Hypophthalmichthys nobilis)\""]
[{"$nulls":4},"Marmorkrebs","ArtenArray(59, 0) = \"Marmorkrebs\"","(Procambarus fallax virginalis)","ArtenArray(59, 1) = \"(Procambarus fallax virginalis)\""]
[{"$nulls":4},"Meerforelle","ArtenArray(60, 0) = \"Meerforelle\"","(Salmo trutta trutta)","ArtenArray(60, 1) = \"(Salmo trutta trutta)\""]
[{"$nulls":4},"Meerneunauge","ArtenArray(61, 0) = \"Meerneunauge\"","(Petromyzon marinus)","ArtenArray(61, 1) = \"(Petromyzon marinus)\""]
[{"$nulls":4},"Moderlieschen","ArtenArray(62, 0) = \"Moderlieschen\"","(Leucaspius delineatus)","ArtenArray(62, 1) = \"(Leucaspius delineatus)\""]
[{"$nulls":4},"Muschel (unbestimmt)","ArtenArray(63, 0) = \"Muschel (unbestimmt)\"",null,"ArtenArray(63, 1) = \"\""]
[{"$nulls":4},"Nackthalsgrundel",{"$f":"CONCATENATE(\"ArtenArray(\",ROW(E66)-2,\", 0) = \") & CONCATENATE(\"\"\"\",E66,\"\"\"\")","v":"ArtenArray(64, 0) = \"Nackthalsgrundel\""},"(Neogobius gymnotrachelus)",{"$f":"CONCATENATE(\"ArtenArray(\",ROW(G66)-2,\", 1) = \") & CONCATENATE(\"\"\"\",G66,\"\"\"\")","v":"ArtenArray(64, 1) = \"(Neogobius gymnotrachelus)\""}]
[{"$nulls":4},"Nase","ArtenArray(65, 0) = \"Nase\"","(Chondrostoma nasus)","ArtenArray(65, 1) = \"(Chondrostoma nasus)\""]
[{"$nulls":4},"Neunauge, Querder (unbestimmt)","ArtenArray(66, 0) = \"Neunauge, Querder (unbestimmt)\"","(Lampetra spec.)","ArtenArray(66, 1) = \"(Lampetra spec.)\""]
[{"$nulls":4},"Nordseeschnäpel","ArtenArray(67, 0) = \"Nordseeschnäpel\"","(Coregonus oxyrhynchus)",{"$f":"CONCATENATE(\"ArtenArray(\",ROW(G69)-2,\", 1) = \") & CONCATENATE(\"\"\"\",G69,\"\"\"\")","v":"ArtenArray(67, 1) = \"(Coregonus oxyrhynchus)\""}]
[{"$nulls":4},"Ostseeschnäpel","ArtenArray(68, 0) = \"Ostseeschnäpel\"","(Coregonus maraena)","ArtenArray(68, 1) = \"(Coregonus maraena)\""]
[{"$nulls":4},"Perlfisch",{"$f":"CONCATENATE(\"ArtenArray(\",ROW(E71)-2,\", 0) = \") & CONCATENATE(\"\"\"\",E71,\"\"\"\")","v":"ArtenArray(69, 0) = \"Perlfisch\""},"(Rutilus frisii meidingeri)","ArtenArray(69, 1) = \"(Rutilus frisii meidingeri)\""]
[{"$nulls":4},"Quappe / Rutte","ArtenArray(70, 0) = \"Quappe / Rutte\"","(Lota lota)","ArtenArray(70, 1) = \"(Lota lota)\""]
[{"$nulls":4},"Rapfen","ArtenArray(71, 0) = \"Rapfen\"","(Aspius aspius)","ArtenArray(71, 1) = \"(Aspius aspius)\""]
[{"$nulls":4},"Regenbogenforelle","ArtenArray(72, 0) = \"Regenbogenforelle\"","(Oncorhynchus mykiss)","ArtenArray(72, 1) = \"(Oncorhynchus mykiss)\""]
[{"$nulls":4},"Rotauge / Plötze","ArtenArray(73, 0) = \"Rotauge / Plötze\"","(Rutilus rutilus)","ArtenArray(73, 1) = \"(Rutilus rutilus)\""]
[{"$nulls":4},"Rotfeder","ArtenArray(74, 0) = \"Rotfeder\"","(Scardinius erythrophthalmus)","ArtenArray(74, 1) = \"(Scardinius erythrophthalmus)\""]
[{"$nulls":4},"Schlammpeitzger","ArtenArray(75, 0) = \"Schlammpeitzger\"","(Misgurnus fossilis)","ArtenArray(75, 1) = \"(Misgurnus fossilis)\""]
[{"$nulls":4},"Schleie","ArtenArray(76, 0) = \"Schleie\"","(Tinca tinca)","ArtenArray(76, 1) = \"(Tinca tinca)\""]
[{"$nulls":4},"Schmerle","ArtenArray(77, 0) = \"Schmerle\"","(Barbatula barbatula)","ArtenArray(77, 1) = \"(Barbatula barbatula)\""]
[{"$nulls":4},"Schneider","ArtenArray(78, 0) = \"Schneider\"","(Alburnoides bipunctatus)","ArtenArray(78, 1) = \"(Alburnoides bipunctatus)\""]
[{"$nulls":4},"Schrätzer","ArtenArray(79, 0) = \"Schrätzer\"","(Gymnocephalus schraetser)","ArtenArray(79, 1) = \"(Gymnocephalus schraetser)\""]
[{"$nulls":4},"Schwarzbarsch","ArtenArray(80, 0) = \"Schwarzbarsch\"","(Micropterus spec.)","ArtenArray(80, 1) = \"(Micropterus spec.)\""]
[{"$nulls":4},"Schwarzmundgrundel","ArtenArray(81, 0) = \"Schwarzmundgrundel\"","(Neogobius melanostomus)","ArtenArray(81, 1) = \"(Neogobius melanostomus)\""]
[{"$nulls":4},"Seeforelle","ArtenArray(82, 0) = \"Seeforelle\"","(Salmo trutta lacustris)","ArtenArray(82, 1) = \"(Salmo trutta lacustris)\""]
[{"$nulls":4},"Seesaibling","ArtenArray(83, 0) = \"Seesaibling\"","(Salvelinus alpinus)","ArtenArray(83, 1) = \"(Salvelinus alpinus)\""]
[{"$nulls":4},"Signalkrebs","ArtenArray(84, 0) = \"Signalkrebs\"","(Pacifastacus leniusculus)","ArtenArray(84, 1) = \"(Pacifastacus leniusculus)\""]
[{"$nulls":4},"Silberkarpfen","ArtenArray(85, 0) = \"Silberkarpfen\"","(Hypophthalmichthys molitrix)","ArtenArray(85, 1) = \"(Hypophthalmichthys molitrix)\""]
[{"$nulls":4},"Sonnenbarsch","ArtenArray(86, 0) = \"Sonnenbarsch\"","(Lepomis gibbosus)","ArtenArray(86, 1) = \"(Lepomis gibbosus)\""]
[{"$nulls":4},"Steinbeißer","ArtenArray(87, 0) = \"Steinbeißer\"","(Cobitis taenia)","ArtenArray(87, 1) = \"(Cobitis taenia)\""]
[{"$nulls":4},"Steingressling","ArtenArray(88, 0) = \"Steingressling\"","(Gobio uranoscopus)","ArtenArray(88, 1) = \"(Gobio uranoscopus)\""]
[{"$nulls":4},"Steinkrebs","ArtenArray(89, 0) = \"Steinkrebs\"","(Austropotamobius torrentium)","ArtenArray(89, 1) = \"(Austropotamobius torrentium)\""]
[{"$nulls":4},"Sterlet","ArtenArray(90, 0) = \"Sterlet\"","(Acipenser ruthenus)","ArtenArray(90, 1) = \"(Acipenser ruthenus)\""]
[{"$nulls":4},"Sternhausen","ArtenArray(91, 0) = \"Sternhausen\"","(Acipenser stellatus)","ArtenArray(91, 1) = \"(Acipenser stellatus)\""]
[{"$nulls":4},"Stint, Binnenform","ArtenArray(92, 0) = \"Stint, Binnenform\"","(Osmerus eperlanus spirinchus)","ArtenArray(92, 1) = \"(Osmerus eperlanus spirinchus)\""]
[{"$nulls":4},"Stint, Wanderform","ArtenArray(93, 0) = \"Stint, Wanderform\"","(Osmerus eperlanus eperlanus)","ArtenArray(93, 1) = \"(Osmerus eperlanus eperlanus)\""]
[{"$nulls":4},"Stör, Atlantischer","ArtenArray(94, 0) = \"Stör, Atlantischer\"","(Acipenser sturio)","ArtenArray(94, 1) = \"(Acipenser sturio)\""]
[{"$nulls":4},"Störhybride","ArtenArray(95, 0) = \"Störhybride\"",null,"ArtenArray(95, 1) = \"\""]
[{"$nulls":4},"Streber","ArtenArray(96, 0) = \"Streber\"","(Zingel streber)","ArtenArray(96, 1) = \"(Zingel streber)\""]
[{"$nulls":4},"Strömer","ArtenArray(97, 0) = \"Strömer\"","(Leuciscus souffia agassizi)","ArtenArray(97, 1) = \"(Leuciscus souffia agassizi)\""]
[{"$nulls":4},"Sumpfkrebs, Amerikanischer","ArtenArray(98, 0) = \"Sumpfkrebs, Amerikanischer\"","(Procambarus clarkii)","ArtenArray(98, 1) = \"(Procambarus clarkii)\""]
[{"$nulls":4},"Süßwassergarnele","ArtenArray(99, 0) = \"Süßwassergarnele\"","(Atyaephyra desmaresti)","ArtenArray(99, 1) = \"(Atyaephyra desmaresti)\""]
[{"$nulls":4},"Teichmuschel (unbestimmt)","ArtenArray(100, 0) = \"Teichmuschel (unbestimmt)\"","(Anodonta / Pseudanodonta spec.)","ArtenArray(100, 1) = \"(Anodonta / Pseudanodonta spec.)\""]
[{"$nulls":4},"Teichmuschel, Abgeplattete","ArtenArray(101, 0) = \"Teichmuschel, Abgeplattete\"","(Pseudanodonta complanata)","ArtenArray(101, 1) = \"(Pseudanodonta complanata)\""]
[{"$nulls":4},"Teichmuschel, Gemeine / Flache","ArtenArray(102, 0) = \"Teichmuschel, Gemeine / Flache\"","(Anodonta anatina)","ArtenArray(102, 1) = \"(Anodonta anatina)\""]
[{"$nulls":4},"Teichmuschel, Große / Schwanenm.","ArtenArray(103, 0) = \"Teichmuschel, Große / Schwanenm.\"","(Anodonta cygnaea)","ArtenArray(103, 1) = \"(Anodonta cygnaea)\""]
[{"$nulls":4},"Tigerfisch","ArtenArray(104, 0) = \"Tigerfisch\"","(Bachforelle x Bachsaibling)","ArtenArray(104, 1) = \"(Bachforelle x Bachsaibling)\""]
[{"$nulls":4},"Ukelei / Laube","ArtenArray(105, 0) = \"Ukelei / Laube\"","(Alburnus alburnus)","ArtenArray(105, 1) = \"(Alburnus alburnus)\""]
[{"$nulls":4},"Ukrainisches Bachneunauge","ArtenArray(106, 0) = \"Ukrainisches Bachneunauge\"","(Eudontomyzon mariae)","ArtenArray(106, 1) = \"(Eudontomyzon mariae)\""]
[{"$nulls":4},"Weißflossengründling","ArtenArray(107, 0) = \"Weißflossengründling\"","(Gobio albipinnatus)","ArtenArray(107, 1) = \"(Gobio albipinnatus)\""]
[{"$nulls":4},"Wels","ArtenArray(108, 0) = \"Wels\"","(Silurus glanis)","ArtenArray(108, 1) = \"(Silurus glanis)\""]
[{"$nulls":4},"Wollhandkrabbe","ArtenArray(109, 0) = \"Wollhandkrabbe\"","(Eriocheir sinensis)","ArtenArray(109, 1) = \"(Eriocheir sinensis)\""]
[{"$nulls":4},"Zährte","ArtenArray(110, 0) = \"Zährte\"","(Vimba vimba)","ArtenArray(110, 1) = \"(Vimba vimba)\""]
[{"$nulls":4},"Zander","ArtenArray(111, 0) = \"Zander\"","(Sander lucioperca)","ArtenArray(111, 1) = \"(Sander lucioperca)\""]
[{"$nulls":4},"Ziege","ArtenArray(112, 0) = \"Ziege\"","(Pelecus cultratus)","ArtenArray(112, 1) = \"(Pelecus cultratus)\""]
[{"$nulls":4},"Zingel","ArtenArray(113, 0) = \"Zingel\"","(Zingel zingel)","ArtenArray(113, 1) = \"(Zingel zingel)\""]
[{"$nulls":4},"Zobel","ArtenArray(114, 0) = \"Zobel\"","(Abramis sapa)","ArtenArray(114, 1) = \"(Abramis sapa)\""]
[{"$nulls":4},"Zope","ArtenArray(115, 0) = \"Zope\"","(Abramis ballerus)","ArtenArray(115, 1) = \"(Abramis ballerus)\""]
[{"$nulls":4},"Zwergstichling","ArtenArray(116, 0) = \"Zwergstichling\"","(Pungitius pungitius)","ArtenArray(116, 1) = \"(Pungitius pungitius)\""]
[{"$nulls":4},"Zwergwels","ArtenArray(117, 0) = \"Zwergwels\"","(Ictalurus spec.)","ArtenArray(117, 1) = \"(Ictalurus spec.)\""]

{"sheet":"Backup","index":2,"n_rows":259,"n_cols":14,"rows_kept":259,"hidden":true}
[{"$f":"'Protokoll E-Befischung'!B1","v":"Version 2015-06-16"},"Inhalt","Formularzelle","Inhalt_fehlt","Pruefsumme"]
["Anlass_WRRL",{"$f":"IF(C2=TRUE,1,0)","v":0},false,{"$f":"IF(SUM(B2:B4)=1,0,1)","v":1},2,{"$f":"CONCATENATE(\"\",YEAR('Protokoll E-Befischung'!AS13))","v":"1900"}]
["Anlass_FFH-RL",{"$f":"IF(C3=TRUE,1,0)","v":0},false,0,2,{"$f":"IF(MONTH('Protokoll E-Befischung'!AS13)<10,CONCATENATE(\"-0\",MONTH('Protokoll E-Befischung'!AS13)),CONCATENATE(\"-\",MONTH('Protokoll E-Befischung'!AS13)))","v":"-01"}]
["Anlass_sonstiger",{"$f":"IF(C4=TRUE,1,0)","v":0},false,0,2,{"$f":"IF(DAY('Protokoll E-Befischung'!AS13)<10,CONCATENATE(\"-0\",DAY('Protokoll E-Befischung'!AS13)),CONCATENATE(\"-\",DAY('Protokoll E-Befischung'!AS13)))","v":"-00"}]
["Anlass_sonstiger_Freitext",{"$f":"IF('Protokoll E-Befischung'!AQ3<>\"\",'Protokoll E-Befischung'!AQ3,\"\")","v":""},"AQ3",{"$f":"IF(AND(C4=TRUE,B5=\"\"),1,0)","v":0},2,{"$f":"IF(B26<>\"\",CONCATENATE(B26,\"_\",B12,\"_\",B13,\"_\",F2,F3,F4),CONCATENATE(B12,\"_\",B13,\"_\",F2,F3,F4))","v":"__1900-01-00"}]
["Bearbeiter_1",{"$f":"IF('Protokoll E-Befischung'!H5<>\"\",'Protokoll E-Befischung'!H5,\"\")","v":""},"H5",{"$f":"IF(B6<>\"\",0,1)","v":1},3]
["Bearbeiter_2",{"$f":"IF('Protokoll E-Befischung'!H7<>\"\",'Protokoll E-Befischung'!H7,\"\")","v":""},"H7",0]
["Strasse",{"$f":"IF('Protokoll E-Befischung'!AF5<>\"\",'Protokoll E-Befischung'!AF5,\"\")","v":""},"AF5",{"$f":"IF(B8<>\"\",0,1)","v":1},3]
["PLZ_Ort",{"$f":"IF('Protokoll E-Befischung'!AF7<>\"\",'Protokoll E-Befischung'!AF7,\"\")","v":""},"AF7",1,3]
["Tel",{"$f":"IF('Protokoll E-Befischung'!K9<>\"\",'Protokoll E-Befischung'!K9,\"\")","v":""},"K9",1,3]
["Email",{"$f":"IF('Protokoll E-Befischung'!AF9<>\"\",'Protokoll E-Befischung'!AF9,\"\")","v":""},"AF9",1,3]
["Gewaessername",{"$f":"IF('Protokoll E-Befischung'!B13<>\"\",'Protokoll E-Befischung'!B13,\"\")","v":""},"B13",1,11]
["Ortsangabe",{"$f":"IF('Protokoll E-Befischung'!X13<>\"\",'Protokoll E-Befischung'!X13,\"\")","v":""},"X13",1,11]
["Datum",{"$f":"IF('Protokoll E-Befischung'!AS13<>\"\",'Protokoll E-Befischung'!AS13,\"\")","v":""},"AS13",1,11]
["Vorfluter_1",{"$f":"IF('Protokoll E-Befischung'!I15<>\"\",'Protokoll E-Befischung'!I15,\"\")","v":""},"I15",0,14]
["Vorfluter_2",{"$f":"IF('Protokoll E-Befischung'!R15<>\"\",'Protokoll E-Befischung'!R15,\"\")","v":""},"R15",0,14]
["Vorfluter_3",{"$f":"IF('Protokoll E-Befischung'!AB15<>\"\",'Protokoll E-Befischung'!AB15,\"\")","v":""},"AB15",0,14]
["Vorfluter_4",{"$f":"IF('Protokoll E-Befischung'!AJ15<>\"\",'Protokoll E-Befischung'!AJ15,\"\")","v":""},"AJ15",0,14]
["Vorfluter_5",{"$f":"IF('Protokoll E-Befischung'!AT15<>\"\",'Protokoll E-Befischung'!AT15,\"\")","v":""},"AT15",0,14]
["Grenze_unten_Text",{"$f":"IF('Protokoll E-Befischung'!F19<>\"\",'Protokoll E-Befischung'!F19,\"\")","v":""},"F19",0]
["RW_Grenze_unten",{"$f":"IF('Protokoll E-Befischung'!AI19<>\"\",'Protokoll E-Befischung'!AI19,\"\")","v":""},"AI19",{"$f":"IF(B21<>\"\",0,1)","v":1},17]
["HW_Grenze_unten",{"$f":"IF('Protokoll E-Befischung'!AR19<>\"\",'Protokoll E-Befischung'!AR19,\"\")","v":""},"AR19",{"$f":"IF(B22<>\"\",0,1)","v":1},17]
["Grenze_oben_Text",{"$f":"IF('Protokoll E-Befischung'!F20<>\"\",'Protokoll E-Befischung'!F20,\"\")","v":""},"F20",0]
["RW_Grenze_oben",{"$f":"IF('Protokoll E-Befischung'!AI20<>\"\",'Protokoll E-Befischung'!AI20,\"\")","v":""},"AI20",{"$f":"IF(B24<>\"\",0,1)","v":1},17]
["HW_Grenze_oben",{"$f":"IF('Protokoll E-Befischung'!AR20<>\"\",'Protokoll E-Befischung'!AR20,\"\")","v":""},"AR20",{"$f":"IF(B25<>\"\",0,1)","v":1},17]
["WRRL-PS-Nr",{"$f":"IF('Protokoll E-Befischung'!B23<>\"\",'Protokoll E-Befischung'!B23,\"\")","v":""},"B23",{"$f":"IF(OR(B2=0,B26<>\"\"),0,1)","v":0},21]
["TK25_1",{"$f":"IF('Protokoll E-Befischung'!L23<>\"\",'Protokoll E-Befischung'!L23,\"\")","v":""},"L23",0]
["TK25_2",{"$f":"IF('Protokoll E-Befischung'!R23<>\"\",'Protokoll E-Befischung'!R23,\"\")","v":""},"R23",0]
["TK25_3",{"$f":"IF('Protokoll E-Befischung'!X23<>\"\",'Protokoll E-Befischung'!X23,\"\")","v":""},"X23",0]
["TK25_4",{"$f":"IF('Protokoll E-Befischung'!AC23<>\"\",'Protokoll E-Befischung'!AC23,\"\")","v":""},"AC23",0]
["Gewaessertyp_Graben",{"$f":"IF(C31=TRUE,1,0)","v":0},false,{"$f":"IF(SUM(B31:B38)=1,0,1)","v":1},24]
["Gewaessertyp_Kanal",0,false,0]
["Gewaessertyp_Bach",0,false,0]
["Gewaessertyp_Fluss",0,false,0]
["Gewaessertyp_See",0,false,0]
["Gewaessertyp_Teich/Weiher",0,false,0]
["Gewaessertyp_Altw_angebunden",0,false,0]
["Gewaessertyp_Altw_abgeschnitten",0,false,0,{"$f":"IF(SUM(B31:B38)=1,0,1)","v":1}]
["PS-Laenge",{"$f":"IF('Protokoll E-Befischung'!D29<>\"\",'Protokoll E-Befischung'!D29,\"\")","v":""},"D29",{"$f":"IF(B39<>\"\",0,1)","v":1},27]
["Hoehe_ueNN",{"$f":"IF('Protokoll E-Befischung'!N29<>\"\",'Protokoll E-Befischung'!N29,\"\")","v":""},"N29",0]
["FFH-Gebiet-Nr",{"$f":"IF('Protokoll E-Befischung'!W29<>\"\",'Protokoll E-Befischung'!W29,\"\")","v":""},"W29",0]
["WK-Nr",{"$f":"IF('Protokoll E-Befischung'!AG29<>\"\",CONCATENATE(\"'\",'Protokoll E-Befischung'!AG29),\"\")","v":""},"AG29",0]
["Uhrzeit",{"$f":"IF('Protokoll E-Befischung'!B34<>\"\",'Protokoll E-Befischung'!B34,\"\")","v":""},"B34",{"$f":"IF(B43<>\"\",0,1)","v":1},32]
["Wassertemperatur",{"$f":"IF(ISNUMBER('Protokoll E-Befischung'!L34),'Protokoll E-Befischung'!L34,\"\")","v":""},"L34",{"$f":"IF(OR(B44<>\"\",'Protokoll E-Befischung'!L34=\"?\"),0,1)","v":1},32]
["Leitfaehigkeit",{"$f":"IF(ISNUMBER('Protokoll E-Befischung'!W34),'Protokoll E-Befischung'!W34,\"\")","v":""},"W34",{"$f":"IF(OR(B45<>\"\",'Protokoll E-Befischung'!W34=\"?\"),0,1)","v":1},32]
["Sichttiefe",{"$f":"IF('Protokoll E-Befischung'!AG34<>\"\",'Protokoll E-Befischung'!AG34,\"\")","v":""},"AG34",{"$f":"IF(B46<>\"\",0,1)","v":1},32]
["Regen_keine",{"$f":"IF(C47=TRUE,1,0)","v":0},false,{"$f":"IF(SUM(B47:B49)=1,0,1)","v":1},35]
["Regen_vor",0,false,0]
["Regen_waehrend",0,false,0]
["Truebung_keine",0,false,{"$f":"IF(SUM(B50:B52)=1,0,1)","v":1},38]
["Truebung_schwach",0,false,0]
["Truebung_deutlich",0,false,0]
["Schaum_keine",0,false,{"$f":"IF(SUM(B53:B55)=1,0,1)","v":1},41]
["Schaum_schwach",0,false,0]
["Schaum_deutlich",0,false,0]
["Breite_<1",0,false,{"$f":"IF(OR(SUM($B$35:$B$38)=1,SUM(B56:B62)=1),0,1)","v":1},46]
["Breite_1-2",0,false,0]
["Breite_2-5",0,false,0]
["Breite_5-15",0,false,0]
["Breite_15-50",0,false,0]
["Breite_50-100",0,false,0]
["Breite_>100",0,false,0]
["Breite_Schaetzwert",{"$f":"IF('Protokoll E-Befischung'!Q49<>\"\",'Protokoll E-Befischung'!Q49,\"\")","v":""},"Q49",{"$f":"IF(OR(SUM($B$35:$B$38)=1,B63<>\"\"),0,1)","v":1},46]
["Tiefe_<0,1",{"$f":"IF(C64=TRUE,1,0)","v":0},false,{"$f":"IF(OR(SUM($B$35:$B$38)=1,SUM(B64:B70)=1),0,1)","v":1},50]
["Tiefe_0,1-0,3",0,false,0]
["Tiefe_0,3-0,5",0,false,0]
["Tiefe_0,5-1",0,false,0]
["Tiefe_1-2",0,false,0]
["Tiefe_2-4",0,false,0]
["Tiefe_>4",0,false,0]
["Tiefe_Schaetzwert",{"$f":"IF('Protokoll E-Befischung'!Q54<>\"\",'Protokoll E-Befischung'!Q54,\"\")","v":""},"Q54",{"$f":"IF(OR(SUM($B$35:$B$38)=1,B71<>\"\"),0,1)","v":1},50]
["Tiefenvarianz_gleichm_tief",0,false,{"$f":"IF(OR(SUM($B$35:$B$38)=1,SUM(B72:B76)<>0),0,1)","v":1},55]
["Tiefenvarianz_gleichm_flach",0,false,0]
["Tiefenvarianz_wechselnd",0,false,0]
["Tiefenvarianz_Flachstellen",0,false,0]
["Tiefenvarianz_Gumpen",0,false,0]
["Linie_geradlinig",0,false,{"$f":"IF(OR(SUM($B$35:$B$38)=1,SUM(B77:B81)<>0),0,1)","v":1},58]
["Linie_Biegungen",0,false,0]
["Linie_gewunden",0,false,0]
["Linie_maeandrierend",0,false,0]
["Linie_Furkationen",0,false,0]
["Stroemung_reissend",{"$f":"IF(C82=TRUE,1,0)","v":0},false,{"$f":"IF(OR(SUM($B$35:$B$38)=1,SUM(B82:B87)<>0),0,1)","v":1},61]
["Stroemung_turbulent",0,false,0]
["Stroemung_fliessend+Turbulenzen",0,false,0]
["Stroemung_gleichmaessig_fliessend",{"$f":"IF(C85=TRUE,1,0)","v":0},false,0]
["Stroemung_traege_fliessend",0,false,0]
["Stroemung_Rueckstroemung",0,false,0]
["Fliessgeschwindigkeit_<0,1",{"$f":"IF(C88=TRUE,1,0)","v":0},false,{"$f":"IF(OR(SUM($B$35:$B$38)=1,SUM(B88:B93)=1),0,1)","v":1},65]
["Fliessgeschwindigkeit_0,1-0,25",0,false,0]
["Fliessgeschwindigkeit_0,25-0,5",0,false,0]
["Fliessgeschwindigkeit_0,5-0,75",0,false,0]
["Fliessgeschwindigkeit_0,75-1",0,false,0]
["Fliessgeschwindigkeit_>1",0,false,0]
["Wasserfuehrung_gering",{"$f":"IF(C94=TRUE,1,0)","v":0},false,{"$f":"IF(OR(SUM($B$35:$B$38)=1,SUM(B94:B96)=1),0,1)","v":1},68]
["Wasserfuehrung_normal",0,false,0]
["Wasserfuehrung_stark",0,false,0]
["Stillwasserbereiche_<10",0,false,{"$f":"IF(OR(SUM($B$35:$B$38)=1,SUM(B97:B101)=1),0,1)","v":1},71]
["Stillwasserbereiche_10-25",0,false,0]
["Stillwasserbereiche_25-50",0,false,0]
["Stillwasserbereiche_50-75",0,false,0]
["Stillwasserbereiche_>75",0,false,0]
["Gesamtprofil_naturnah",0,false,{"$f":"IF(OR(SUM($B$35:$B$38)=1,SUM(B102:B105)=1),0,1)","v":1},74]
["Gesamtprofil_leicht_beeintraechtigt",0,false,0]
["Gesamtprofil_deutlich_beeintraechtigt",0,false,0]
["Gesamtprofil_naturfern",0,false,0]
["Umland_Nadelwald",{"$f":"IF('Protokoll E-Befischung'!C81<>\"\",'Protokoll E-Befischung'!C81,\"\")","v":""},"C81",{"$f":"IF(SUM(B106:B113)=100,0,1)","v":1},79]
["Umland_Mischwald",{"$f":"IF('Protokoll E-Befischung'!N81<>\"\",'Protokoll E-Befischung'!N81,\"\")","v":""},"N81",0]
["Umland_Laubwald",{"$f":"IF('Protokoll E-Befischung'!AB81<>\"\",'Protokoll E-Befischung'!AB81,\"\")","v":""},"AB81",0]
["Umland_Auwald",{"$f":"IF('Protokoll E-Befischung'!AO81<>\"\",'Protokoll E-Befischung'!AO81,\"\")","v":""},"AO81",0]
["Umland_Wiese",{"$f":"IF('Protokoll E-Befischung'!C83<>\"\",'Protokoll E-Befischung'!C83,\"\")","v":""},"C83",0]
["Umland_Kulturland",{"$f":"IF('Protokoll E-Befischung'!N83<>\"\",'Protokoll E-Befischung'!N83,\"\")","v":""},"N83",0]
["Umland_Feuchtgebiet",{"$f":"IF('Protokoll E-Befischung'!AB83<>\"\",'Protokoll E-Befischung'!AB83,\"\")","v":""},"AB83",0]
["Umland_Siedlung",{"$f":"IF('Protokoll E-Befischung'!AO83<>\"\",'Protokoll E-Befischung'!AO83,\"\")","v":""},"AO83",0,null,{"$f":"SUM(B106:B113)","v":0}]
["Ufer_Randstr_beidseitig_vollstaendig",{"$f":"IF(C114=TRUE,1,0)","v":0},false,{"$f":"IF(OR(SUM($B$35:$B$38)=1,SUM(B114:B116)<>0),0,1)","v":1},85]
["Ufer_Randstr_einseitig/unvollstaendig",{"$f":"IF(C115=TRUE,1,0)","v":0},false,0]
["Ufer_Randstr_nicht_vorhanden",{"$f":"IF(C116=TRUE,1,0)","v":0},false,0]
["Ufer_Neigung_Flachufer",{"$f":"IF('Protokoll E-Befischung'!K90<>\"\",'Protokoll E-Befischung'!K90,\"\")","v":""},"K90",{"$f":"IF(SUM(B117:B120)=100,0,1)","v":1},85]
["Ufer_Neigung_Schraegufer",{"$f":"IF('Protokoll E-Befischung'!V90<>\"\",'Protokoll E-Befischung'!V90,\"\")","v":""},"V90",0]
["Ufer_Neigung_Abbruch",{"$f":"IF('Protokoll E-Befischung'!AG90<>\"\",'Protokoll E-Befischung'!AG90,\"\")","v":""},"AG90",0]
["Ufer_Neigung_Unterspuelung",{"$f":"IF('Protokoll E-Befischung'!AP90<>\"\",'Protokoll E-Befischung'!AP90,\"\")","v":""},"AP90",0,null,{"$f":"SUM(B117:B120)","v":0}]
["Ufer_Anteil_Damm",{"$f":"IF('Protokoll E-Befischung'!V93<>\"\",'Protokoll E-Befischung'!V93,\"\")","v":""},"V93",0]
["Ufer_Damm_Neigung",{"$f":"IF('Protokoll E-Befischung'!AG93<>\"\",'Protokoll E-Befischung'!AG93,\"\")","v":""},"AG93",0]
["Ufer_Buhnenbereich",null,false,0]
["Ufer_Anteil_Baumwurzeln",{"$f":"IF('Protokoll E-Befischung'!AG96<>\"\",'Protokoll E-Befischung'!AG96,\"\")","v":""},"AG96",{"$f":"IF(B124<>\"\",0,1)","v":1},94]
["Ufer_Bewuchs_ohne",{"$f":"IF('Protokoll E-Befischung'!V99<>\"\",'Protokoll E-Befischung'!V99,\"\")","v":""},"V99",{"$f":"IF(SUM(B125:B133)=100,0,1)","v":1},97]
["Ufer_Bewuchs_Graeser",{"$f":"IF('Protokoll E-Befischung'!AG99<>\"\",'Protokoll E-Befischung'!AG99,\"\")","v":""},"AG99",0]
["Ufer_Bewuchs_Schilf/Rohr",{"$f":"IF('Protokoll E-Befischung'!AP99<>\"\",'Protokoll E-Befischung'!AP99,\"\")","v":""},"AP99",0]
["Ufer_Bewuchs_Blattpflanzen",{"$f":"IF('Protokoll E-Befischung'!V101<>\"\",'Protokoll E-Befischung'!V101,\"\")","v":""},"V101",0]
["Ufer_Bewuchs_Straeucher",{"$f":"IF('Protokoll E-Befischung'!AG101<>\"\",'Protokoll E-Befischung'!AG101,\"\")","v":""},"AG101",0]
["Ufer_Bewuchs_Weiden",{"$f":"IF('Protokoll E-Befischung'!AP101<>\"\",'Protokoll E-Befischung'!AP101,\"\")","v":""},"AP101",0]
["Ufer_Bewuchs_Erlen",{"$f":"IF('Protokoll E-Befischung'!V103<>\"\",'Protokoll E-Befischung'!V103,\"\")","v":""},"V103",0]
["Ufer_Bewuchs_andere_Baeume",{"$f":"IF('Protokoll E-Befischung'!AG103<>\"\",'Protokoll E-Befischung'!AG103,\"\")","v":""},"AG103",0]
["Ufer_Bewuchs_Freifeld_%",{"$f":"IF('Protokoll E-Befischung'!AP103<>\"\",'Protokoll E-Befischung'!AP103,\"\")","v":""},"AP103",{"$f":"IF(B134<>\"\",IF(B133<>\"\",0,1),0)","v":0},97,{"$f":"SUM(B125:B133)","v":0}]
["Ufer_Bewuchs_Freifeld_Text",{"$f":"IF('Protokoll E-Befischung'!AT103<>\"\",'Protokoll E-Befischung'!AT103,\"\")","v":""},"AT103",{"$f":"IF(B133<>\"\",IF(B134<>\"\",0,1),0)","v":0},97]
["Ufer_Verbau_keine",{"$f":"IF('Protokoll E-Befischung'!K106<>\"\",'Protokoll E-Befischung'!K106,\"\")","v":""},"K106",{"$f":"IF(SUM(B135:B142)=100,0,1)","v":1},104]
["Ufer_Verbau_Mauer_unverfugt",{"$f":"IF('Protokoll E-Befischung'!V106<>\"\",'Protokoll E-Befischung'!V106,\"\")","v":""},"V106",0]
["Ufer_Verbau_Faschinen",{"$f":"IF('Protokoll E-Befischung'!AI106<>\"\",'Protokoll E-Befischung'!AI106,\"\")","v":""},"AI106",0]
["Ufer_Verbau_Drahtnetze",{"$f":"IF('Protokoll E-Befischung'!AP106<>\"\",'Protokoll E-Befischung'!AP106,\"\")","v":""},"AP106",0]
["Ufer_Verbau_ueberwachsen",{"$f":"IF('Protokoll E-Befischung'!K108<>\"\",'Protokoll E-Befischung'!K108,\"\")","v":""},"K108",0]
["Ufer_Verbau_Mauer_verfugt",{"$f":"IF('Protokoll E-Befischung'!V108<>\"\",'Protokoll E-Befischung'!V108,\"\")","v":""},"V108",0]
["Ufer_Verbau_Steinwurf",{"$f":"IF('Protokoll E-Befischung'!AI108<>\"\",'Protokoll E-Befischung'!AI108,\"\")","v":""},"AI108",0]
["Ufer_Verbau_Freifeld_%",{"$f":"IF('Protokoll E-Befischung'!AP108<>\"\",'Protokoll E-Befischung'!AP108,\"\")","v":""},"AP108",{"$f":"IF(B143<>\"\",IF(B142<>\"\",0,1),0)","v":0},104,{"$f":"SUM(B135:B142)","v":0}]
["Ufer_Verbau_Freifeld_Text",{"$f":"IF('Protokoll E-Befischung'!AT108<>\"\",'Protokoll E-Befischung'!AT108,\"\")","v":""},"AT108",{"$f":"IF(B142<>\"\",IF(B143<>\"\",0,1),0)","v":0},104]
["Sohle_Substrat_Schlamm",{"$f":"IF('Protokoll E-Befischung'!K112<>\"\",'Protokoll E-Befischung'!K112,\"\")","v":""},"K112",{"$f":"IF(SUM(B144:B151)=100,0,1)","v":1},110]
["Sohle_Substrat_Lehm/Ton",{"$f":"IF('Protokoll E-Befischung'!U112<>\"\",'Protokoll E-Befischung'!U112,\"\")","v":""},"U112",0]
["Sohle_Substrat_Erdreich",{"$f":"IF('Protokoll E-Befischung'!AF112<>\"\",'Protokoll E-Befischung'!AF112,\"\")","v":""},"AF112",0]
["Sohle_Substrat_Sand",{"$f":"IF('Protokoll E-Befischung'!AP112<>\"\",'Protokoll E-Befischung'!AP112,\"\")","v":""},"AP112",0]
["Sohle_Substrat_Kies",{"$f":"IF('Protokoll E-Befischung'!K114<>\"\",'Protokoll E-Befischung'!K114,\"\")","v":""},"K114",0]
["Sohle_Substrat_Grobkies",{"$f":"IF('Protokoll E-Befischung'!U114<>\"\",'Protokoll E-Befischung'!U114,\"\")","v":""},"U114",0]
["Sohle_Substrat_Steine",{"$f":"IF('Protokoll E-Befischung'!AF114<>\"\",'Protokoll E-Befischung'!AF114,\"\")","v":""},"AF114",0]
["Sohle_Substrat_Felsen",{"$f":"IF('Protokoll E-Befischung'!AP114<>\"\",'Protokoll E-Befischung'!AP114,\"\")","v":""},"AP114",0,null,{"$f":"SUM(B144:B151)","v":0}]
["Sohle_Verbau_keine",{"$f":"IF('Protokoll E-Befischung'!K117<>\"\",'Protokoll E-Befischung'!K117,\"\")","v":""},"K117",{"$f":"IF(SUM($B$35:$B$38)=1,IF(OR(SUM(B152:B157)=100,SUM(B152:B157)=0),0,1),IF(SUM(B152:B157)=100,0,1))","v":1},115]
["Sohle_Verbau_Rasensteine",{"$f":"IF('Protokoll E-Befischung'!AB117<>\"\",'Protokoll E-Befischung'!AB117,\"\")","v":""},"AB117",0]
["Sohle_Verbau_Drahntnetze",{"$f":"IF('Protokoll E-Befischung'!AP117<>\"\",'Protokoll E-Befischung'!AP117,\"\")","v":""},"AP117",0]
["Sohle_Verbau_Steinschuettung",{"$f":"IF('Protokoll E-Befischung'!K119<>\"\",'Protokoll E-Befischung'!K119,\"\")","v":""},"K119",0]
["Sohle_Verbau_Pflasterung",{"$f":"IF('Protokoll E-Befischung'!AB119<>\"\",'Protokoll E-Befischung'!AB119,\"\")","v":""},"AB119",0]
["Sohle_Verbau_Betonschale",{"$f":"IF('Protokoll E-Befischung'!AP119<>\"\",'Protokoll E-Befischung'!AP119,\"\")","v":""},"AP119",0,null,{"$f":"SUM(B152:B157)","v":0}]
["Besonderheit_kolmatiert",{"$f":"IF(C158=TRUE,1,0)","v":0},false,0]
["Besonderheit_Eisenocker",{"$f":"IF(C159=TRUE,1,0)","v":0},false,0]
["Besonderheit_Treibsand",{"$f":"IF(C160=TRUE,1,0)","v":0},false,0]
["Besonderheit_Faulschlamm",{"$f":"IF(C161=TRUE,1,0)","v":0},false,0]
["Strukturen_Totholz",{"$f":"IF('Protokoll E-Befischung'!C128<>\"\",'Protokoll E-Befischung'!C128,\"\")","v":""},"C128",{"$f":"IF(B162<>\"\",0,1)","v":1},124]
["Strukturen_Wurzeln",{"$f":"IF('Protokoll E-Befischung'!O128<>\"\",'Protokoll E-Befischung'!O128,\"\")","v":""},"O128",{"$f":"IF(B163<>\"\",0,1)","v":1},124]
["Strukturen_Aeste",{"$f":"IF('Protokoll E-Befischung'!AB128<>\"\",'Protokoll E-Befischung'!AB128,\"\")","v":""},"AB128",1,124]
["Strukturen_Schilf/Roehricht",{"$f":"IF('Protokoll E-Befischung'!AN128<>\"\",'Protokoll E-Befischung'!AN128,\"\")","v":""},"AN128",1,124]
["Strukturen_submerse_Makrophyten",{"$f":"IF('Protokoll E-Befischung'!C130<>\"\",'Protokoll E-Befischung'!C130,\"\")","v":""},"C130",1,124]
["Strukturen_Schwimmblattpfl",{"$f":"IF('Protokoll E-Befischung'!O130<>\"\",'Protokoll E-Befischung'!O130,\"\")","v":""},"O130",1,124]
["Strukturen_emerse_Makrophyten",{"$f":"IF('Protokoll E-Befischung'!AB130<>\"\",'Protokoll E-Befischung'!AB130,\"\")","v":""},"AB130",1,124]
["Strukturen_Freifeld_Haeufigkeit",{"$f":"IF('Protokoll E-Befischung'!AN130<>\"\",'Protokoll E-Befischung'!AN130,\"\")","v":""},"AN130",{"$f":"IF(B170<>\"\",IF(B169<>\"\",0,1),0)","v":0},124]
["Strukturen_Freifeld_Text",{"$f":"IF('Protokoll E-Befischung'!AP130<>\"\",'Protokoll E-Befischung'!AP130,\"\")","v":""},"AP130",{"$f":"IF(B169<>\"\",IF(B170<>\"\",0,1),0)","v":0},124]
["Nutzung_Einfluss_keine",{"$f":"IF(C171=TRUE,1,0)","v":0},false,{"$f":"IF(SUM(B171:B185)<>0,0,1)","v":1},132]
["Nutzung_Einfluss_unbekannt",{"$f":"IF(C172=TRUE,1,0)","v":0},false,0]
["Nutzung_Einfluss_Wasserkraft",0,false,0]
["Nutzung_Einfluss_Stauhaltung",0,false,0]
["Nutzung_Einfluss_Schwall",0,false,0]
["Nutzung_Einfluss_Schifffahrt",0,false,0]
["Nutzung_Einfluss_Bewaesserung",0,false,0]
["Nutzung_Einfluss_Entwaesserung",0,false,0]
["Nutzung_Einfluss_HW-Rueckhaltung",0,false,0]
["Nutzung_Einfluss_HW-Ablauf",0,false,0]
["Nutzung_Einfluss_Badebetrieb",{"$f":"IF(C181=TRUE,1,0)","v":0},false,0]
["Nutzung_Einfluss_Viehtraenke",{"$f":"IF(C182=TRUE,1,0)","v":0},false,0]
["Nutzung_Einfluss_Holzberieselung",{"$f":"IF(C183=TRUE,1,0)","v":0},false,0]
["Nutzung_Einfluss_Trinkwasser",{"$f":"IF(C184=TRUE,1,0)","v":0},false,0]
["Nutzung_Einfluss_Freifeld",{"$f":"IF(C185=TRUE,1,0)","v":0},false,{"$f":"IF(B186<>\"\",IF(B185=1,0,1),0)","v":0},132]
["Nutzung_Einfluss_Freifeld_Text",{"$f":"IF('Protokoll E-Befischung'!AT136<>\"\",'Protokoll E-Befischung'!AT136,\"\")","v":""},"AT136",{"$f":"IF(B185=1,IF(B186<>\"\",0,1),0)","v":0},132]
["Bewirtschaftung_Angelfischerei",{"$f":"IF(C187=TRUE,1,0)","v":0},false,0]
["Bewirtschaftung_Berufsfischerei",{"$f":"IF(C188=TRUE,1,0)","v":0},false,0]
["Bewirtschaftung_Teichspeisung",{"$f":"IF(C189=TRUE,1,0)","v":0},false,0]
["Bewirtschaftung_Teichablauf",{"$f":"IF(C190=TRUE,1,0)","v":0},false,0]
["Bewirtschaftung_Fischereiberechtigter",{"$f":"IF('Protokoll E-Befischung'!L142<>\"\",'Protokoll E-Befischung'!L142,\"\")","v":""},"L142",{"$f":"IF(B191<>\"\",0,1)","v":1},138]
["Besatz_1_Art",{"$f":"IF('Protokoll E-Befischung'!C146<>\"\",'Protokoll E-Befischung'!C146,\"\")","v":""},"C146",0]
["Besatz_1_Groessenklasse",{"$f":"IF('Protokoll E-Befischung'!L146<>\"\",'Protokoll E-Befischung'!L146,\"\")","v":""},"L146",0]
["Besatz_1_Jahr",{"$f":"IF('Protokoll E-Befischung'!Y146<>\"\",'Protokoll E-Befischung'!Y146,\"\")","v":""},"Y146",0]
["Besatz_2_Art",{"$f":"IF('Protokoll E-Befischung'!AB146<>\"\",'Protokoll E-Befischung'!AB146,\"\")","v":""},"AB146",0]
["Besatz_2_Groessenklasse",{"$f":"IF('Protokoll E-Befischung'!AK146<>\"\",'Protokoll E-Befischung'!AK146,\"\")","v":""},"AK146",0]
["Besatz_2_Jahr",{"$f":"IF('Protokoll E-Befischung'!AX146<>\"\",'Protokoll E-Befischung'!AX146,\"\")","v":""},"AX146",0]
["Besatz_3_Art",{"$f":"IF('Protokoll E-Befischung'!C147<>\"\",'Protokoll E-Befischung'!C147,\"\")","v":""},"C147",0]
["Besatz_3_Groessenklasse",{"$f":"IF('Protokoll E-Befischung'!L147<>\"\",'Protokoll E-Befischung'!L147,\"\")","v":""},"L147",0]
["Besatz_3_Jahr",{"$f":"IF('Protokoll E-Befischung'!Y147<>\"\",'Protokoll E-Befischung'!Y147,\"\")","v":""},"Y147",0]
["Besatz_4_Art",{"$f":"IF('Protokoll E-Befischung'!AB147<>\"\",'Protokoll E-Befischung'!AB147,\"\")","v":""},"AB147",0]
["Besatz_4_Groessenklasse",{"$f":"IF('Protokoll E-Befischung'!AK147<>\"\",'Protokoll E-Befischung'!AK147,\"\")","v":""},"AK147",0]
["Besatz_4_Jahr",{"$f":"IF('Protokoll E-Befischung'!AX147<>\"\",'Protokoll E-Befischung'!AX147,\"\")","v":""},"AX147",0]
["Sonstiges",{"$f":"IF('Protokoll E-Befischung'!C151<>\"\",'Protokoll E-Befischung'!C151,\"\")","v":""},"C151",0]
["Ausruestung_E-Geraet_Hersteller",{"$f":"IF('Protokoll E-Befischung'!K161<>\"\",'Protokoll E-Befischung'!K161,\"\")","v":""},"K161",{"$f":"IF(B205<>\"\",0,1)","v":1},159]
["Ausruestung_E-Geraet_Modell",{"$f":"IF('Protokoll E-Befischung'!X161<>\"\",'Protokoll E-Befischung'!X161,\"\")","v":""},"X161",1,159]
["Ausruestung_E-Geraet_Spannung",{"$f":"IF('Protokoll E-Befischung'!AI161<>\"\",'Protokoll E-Befischung'!AI161,\"\")","v":""},"AI161",1,159]
["Ausruestung_E-Geraet_Leistung",{"$f":"IF('Protokoll E-Befischung'!AV161<>\"\",'Protokoll E-Befischung'!AV161,\"\")","v":""},"AV161",1,159]
["Ausruestung_Ringanode_Anzahl",{"$f":"IF('Protokoll E-Befischung'!K164<>\"\",'Protokoll E-Befischung'!K164,\"\")","v":""},"K164",{"$f":"IF(OR(B209<>\"\",B212<>\"\"),0,1)","v":1},162]
["Ausruestung_Ringanode_Durchmesser",{"$f":"IF('Protokoll E-Befischung'!AF164<>\"\",'Protokoll E-Befischung'!AF164,\"\")","v":""},"AF164",1,162]
["Ausruestung_Kathodentyp",{"$f":"IF('Protokoll E-Befischung'!AV164<>\"\",'Protokoll E-Befischung'!AV164,\"\")","v":""},"AV164",1,162]
["Ausruestung_Streifenanode_Anzahl",{"$f":"IF('Protokoll E-Befischung'!K166<>\"\",'Protokoll E-Befischung'!K166,\"\")","v":""},"K166",{"$f":"IF(OR(B209<>\"\",B212<>\"\"),0,1)","v":1},162]
["Ausruestung_Kiemen/Spiegelnetz",{"$f":"IF(C213=TRUE,1,0)","v":0},false,0]
["Ausruestung_Stopp/Sperrnetz",{"$f":"IF(C214=TRUE,1,0)","v":0},false,0]
["Befischt_Gewaesserbreite_Strecke",{"$f":"IF('Protokoll E-Befischung'!S176<>\"\",'Protokoll E-Befischung'!S176,\"\")","v":""},"S176",{"$f":"IF('Protokoll E-Befischung'!S176<>\"\",0,1)","v":1},172]
["Befischt_Gewaesserbreite_Breite",{"$f":"IF('Protokoll E-Befischung'!Y176<>\"\",'Protokoll E-Befischung'!Y176,\"\")","v":""},"Y176",{"$f":"IF(OR(B215=0,B215=\"\"),0,IF(B216<>\"\",0,1))","v":0},172]
["Befischt_Gewaesserbreite_stromauf",{"$f":"IF(C217=TRUE,1,0)","v":0},false,{"$f":"IF(OR(B215=0,B215=\"\",SUM(B217:B218)<>0),0,1)","v":0},172]
["Befischt_Gewaesserbreite_stromab",{"$f":"IF(C218=TRUE,1,0)","v":0},false,0]
["Befischt_Gewaesserbreite_Boot",{"$f":"IF(C219=TRUE,1,0)","v":0},false,{"$f":"IF(OR(B215=0,B215=\"\",SUM(B219:B221)<>0),0,1)","v":0},172]
["Befischt_Gewaesserbreite_watend",{"$f":"IF(C220=TRUE,1,0)","v":0},false,0]
["Befischt_Gewaesserbreite_Ufer",{"$f":"IF(C221=TRUE,1,0)","v":0},false,0]
["Befischt_Ufer_Strecke",{"$f":"IF('Protokoll E-Befischung'!S179<>\"\",'Protokoll E-Befischung'!S179,\"\")","v":""},"S179",{"$f":"IF('Protokoll E-Befischung'!S179<>\"\",0,1)","v":1},172]
["Befischt_Ufer_Breite",{"$f":"IF('Protokoll E-Befischung'!Y179<>\"\",'Protokoll E-Befischung'!Y179,\"\")","v":""},"Y179",{"$f":"IF(OR(B222=0,B222=\"\"),0,IF(B223<>\"\",0,1))","v":0},172]
["Befischt_Ufer_stromauf",{"$f":"IF(C224=TRUE,1,0)","v":0},false,{"$f":"IF(OR(B222=0,B222=\"\",SUM(B224:B225)<>0),0,1)","v":0},172]
["Befischt_Ufer_stromab",{"$f":"IF(C225=TRUE,1,0)","v":0},false,0]
["Befischt_Ufer_Boot",{"$f":"IF(C226=TRUE,1,0)","v":0},false,{"$f":"IF(OR(B222=0,B222=\"\",SUM(B226:B228)<>0),0,1)","v":0},172]
["Befischt_Ufer_watend",{"$f":"IF(C227=TRUE,1,0)","v":0},false,0]
["Befischt_Ufer_Ufer",{"$f":"IF(C228=TRUE,1,0)","v":0},false,0]
["Ergaenzende_Anmerkungen",{"$f":"IF('Protokoll E-Befischung'!C183<>\"\",'Protokoll E-Befischung'!C183,\"\")","v":""},"C183",0,{"$f":"SUM(D2:D229)","v":60}]
["Spalte","C","R","U","X","AA","AC","AF","AI","AK","AN","AQ","AT","AW"]
["Zeile","Art","≤ 5",">5-10",">10-15",">15-20",">20-25",">25-30",">30-40",">40-50",">50-60","> 60","Summe","davon 0+"]
[194,{"$f":"IF('Protokoll E-Befischung'!C194<>\"\",'Protokoll E-Befischung'!C194,\"\")","v":""},{"$f":"IF('Protokoll E-Befischung'!R194<>\"\",'Protokoll E-Befischung'!R194,\"\")","v":""},{"$f":"IF('Protokoll E-Befischung'!U194<>\"\",'Protokoll E-Befischung'!U194,\"\")","v":""},{"$f":"IF('Protokoll E-Befischung'!X194<>\"\",'Protokoll E-Befischung'!X194,\"\")","v":""},{"$f":"IF('Protokoll E-Befischung'!AA194<>\"\",'Protokoll E-Befischung'!AA194,\"\")","v":""},{"$f":"IF('Protokoll E-Befischung'!AC194<>\"\",'Protokoll E-Befischung'!AC194,\"\")","v":""},{"$f":"IF('Protokoll E-Befischung'!AF194<>\"\",'Protokoll E-Befischung'!AF194,\"\")","v":""},{"$f":"IF('Protokoll E-Befischung'!AI194<>\"\",'Protokoll E-Befischung'!AI194,\"\")","v":""},{"$f":"IF('Protokoll E-Befischung'!AK194<>\"\",'Protokoll E-Befischung'!AK194,\"\")","v":""},{"$f":"IF('Protokoll E-Befischung'!AN194<>\"\",'Protokoll E-Befischung'!AN194,\"\")","v":""},{"$f":"IF('Protokoll E-Befischung'!AQ194<>\"\",'Protokoll E-Befischung'!AQ194,\"\")","v":""},{"$f":"IF('Protokoll E-Befischung'!AT194<>\"\",'Protokoll E-Befischung'!AT194,\"\")","v":""},{"$f":"IF('Protokoll E-Befischung'!AW194<>\"\",'Protokoll E-Befischung'!AW194,\"\")","v":""}]
[195,{"$f":"IF('Protokoll E-Befischung'!C195<>\"\",'Protokoll E-Befischung'!C195,\"\")","v":""},{"$f":"IF('Protokoll E-Befischung'!R195<>\"\",'Protokoll E-Befischung'!R195,\"\")","v":""},{"$f":"IF('Protokoll E-Befischung'!U195<>\"\",'Protokoll E-Befischung'!U195,\"\")","v":""},{"$f":"IF('Protokoll E-Befischung'!X195<>\"\",'Protokoll E-Befischung'!X195,\"\")","v":""},{"$f":"IF('Protokoll E-Befischung'!AA195<>\"\",'Protokoll E-Befischung'!AA195,\"\")","v":""},{"$f":"IF('Protokoll E-Befischung'!AC195<>\"\",'Protokoll E-Befischung'!AC195,\"\")","v":""},{"$f":"IF('Protokoll E-Befischung'!AF195<>\"\",'Protokoll E-Befischung'!AF195,\"\")","v":""},{"$f":"IF('Protokoll E-Befischung'!AI195<>\"\",'Protokoll E-Befischung'!AI195,\"\")","v":""},{"$f":"IF('Protokoll E-Befischung'!AK195<>\"\",'Protokoll E-Befischung'!AK195,\"\")","v":""},{"$f":"IF('Protokoll E-Befischung'!AN195<>\"\",'Protokoll E-Befischung'!AN195,\"\")","v":""},{"$f":"IF('Protokoll E-Befischung'!AQ195<>\"\",'Protokoll E-Befischung'!AQ195,\"\")","v":""},{"$f":"IF('Protokoll E-Befischung'!AT195<>\"\",'Protokoll E-Befischung'!AT195,\"\")","v":""},{"$f":"IF('Protokoll E-Befischung'!AW195<>\"\",'Protokoll E-Befischung'!AW195,\"\")","v":""}]
[196,{"$f":"IF('Protokoll E-Befischung'!C196<>\"\",'Protokoll E-Befischung'!C196,\"\")","v":""},{"$f":"IF('Protokoll E-Befischung'!R196<>\"\",'Protokoll E-Befischung'!R196,\"\")","v":""},{"$f":"IF('Protokoll E-Befischung'!U196<>\"\",'Protokoll E-Befischung'!U196,\"\")","v":""},{"$f":"IF('Protokoll E-Befischung'!X196<>\"\",'Protokoll E-Befischung'!X196,\"\")","v":""},{"$f":"IF('Protokoll E-Befischung'!AA196<>\"\",'Protokoll E-Befischung'!AA196,\"\")","v":""},{"$f":"IF('Protokoll E-Befischung'!AC196<>\"\",'Protokoll E-Befischung'!AC196,\"\")","v":""},{"$f":"IF('Protokoll E-Befischung'!AF196<>\"\",'Protokoll E-Befischung'!AF196,\"\")","v":""},{"$f":"IF('Protokoll E-Befischung'!AI196<>\"\",'Protokoll E-Befischung'!AI196,\"\")","v":""},{"$f":"IF('Protokoll E-Befischung'!AK196<>\"\",'Protokoll E-Befischung'!AK196,\"\")","v":""},{"$f":"IF('Protokoll E-Befischung'!AN196<>\"\",'Protokoll E-Befischung'!AN196,\"\")","v":""},{"$f":"IF('Protokoll E-Befischung'!AQ196<>\"\",'Protokoll E-Befischung'!AQ196,\"\")","v":""},{"$f":"IF('Protokoll E-Befischung'!AT196<>\"\",'Protokoll E-Befischung'!AT196,\"\")","v":""},{"$f":"IF('Protokoll E-Befischung'!AW196<>\"\",'Protokoll E-Befischung'!AW196,\"\")","v":""}]
[197,{"$f":"IF('Protokoll E-Befischung'!C197<>\"\",'Protokoll E-Befischung'!C197,\"\")","v":""},{"$f":"IF('Protokoll E-Befischung'!R197<>\"\",'Protokoll E-Befischung'!R197,\"\")","v":""},{"$f":"IF('Protokoll E-Befischung'!U197<>\"\",'Protokoll E-Befischung'!U197,\"\")","v":""},{"$f":"IF('Protokoll E-Befischung'!X197<>\"\",'Protokoll E-Befischung'!X197,\"\")","v":""},{"$f":"IF('Protokoll E-Befischung'!AA197<>\"\",'Protokoll E-Befischung'!AA197,\"\")","v":""},{"$f":"IF('Protokoll E-Befischung'!AC197<>\"\",'Protokoll E-Befischung'!AC197,\"\")","v":""},{"$f":"IF('Protokoll E-Befischung'!AF197<>\"\",'Protokoll E-Befischung'!AF197,\"\")","v":""},{"$f":"IF('Protokoll E-Befischung'!AI197<>\"\",'Protokoll E-Befischung'!AI197,\"\")","v":""},{"$f":"IF('Protokoll E-Befischung'!AK197<>\"\",'Protokoll E-Befischung'!AK197,\"\")","v":""},{"$f":"IF('Protokoll E-Befischung'!AN197<>\"\",'Protokoll E-Befischung'!AN197,\"\")","v":""},{"$f":"IF('Protokoll E-Befischung'!AQ197<>\"\",'Protokoll E-Befischung'!AQ197,\"\")","v":""},{"$f":"IF('Protokoll E-Befischung'!AT197<>\"\",'Protokoll E-Befischung'!AT197,\"\")","v":""},{"$f":"IF('Protokoll E-Befischung'!AW197<>\"\",'Protokoll E-Befischung'!AW197,\"\")","v":""}]
[198,{"$f":"IF('Protokoll E-Befischung'!C198<>\"\",'Protokoll E-Befischung'!C198,\"\")","v":""},{"$f":"IF('Protokoll E-Befischung'!R198<>\"\",'Protokoll E-Befischung'!R198,\"\")","v":""},{"$f":"IF('Protokoll E-Befischung'!U198<>\"\",'Protokoll E-Befischung'!U198,\"\")","v":""},{"$f":"IF('Protokoll E-Befischung'!X198<>\"\",'Protokoll E-Befischung'!X198,\"\")","v":""},{"$f":"IF('Protokoll E-Befischung'!AA198<>\"\",'Protokoll E-Befischung'!AA198,\"\")","v":""},{"$f":"IF('Protokoll E-Befischung'!AC198<>\"\",'Protokoll E-Befischung'!AC198,\"\")","v":""},{"$f":"IF('Protokoll E-Befischung'!AF198<>\"\",'Protokoll E-Befischung'!AF198,\"\")","v":""},{"$f":"IF('Protokoll E-Befischung'!AI198<>\"\",'Protokoll E-Befischung'!AI198,\"\")","v":""},{"$f":"IF('Protokoll E-Befischung'!AK198<>\"\",'Protokoll E-Befischung'!AK198,\"\")","v":""},{"$f":"IF('Protokoll E-Befischung'!AN198<>\"\",'Protokoll E-Befischung'!AN198,\"\")","v":""},{"$f":"IF('Protokoll E-Befischung'!AQ198<>\"\",'Protokoll E-Befischung'!AQ198,\"\")","v":""},{"$f":"IF('Protokoll E-Befischung'!AT198<>\"\",'Protokoll E-Befischung'!AT198,\"\")","v":""},{"$f":"IF('Protokoll E-Befischung'!AW198<>\"\",'Protokoll E-Befischung'!AW198,\"\")","v":""}]
[199,{"$f":"IF('Protokoll E-Befischung'!C199<>\"\",'Protokoll E-Befischung'!C199,\"\")","v":""},{"$f":"IF('Protokoll E-Befischung'!R199<>\"\",'Protokoll E-Befischung'!R199,\"\")","v":""},{"$f":"IF('Protokoll E-Befischung'!U199<>\"\",'Protokoll E-Befischung'!U199,\"\")","v":""},{"$f":"IF('Protokoll E-Befischung'!X199<>\"\",'Protokoll E-Befischung'!X199,\"\")","v":""},{"$f":"IF('Protokoll E-Befischung'!AA199<>\"\",'Protokoll E-Befischung'!AA199,\"\")","v":""},{"$f":"IF('Protokoll E-Befischung'!AC199<>\"\",'Protokoll E-Befischung'!AC199,\"\")","v":""},{"$f":"IF('Protokoll E-Befischung'!AF199<>\"\",'Protokoll E-Befischung'!AF199,\"\")","v":""},{"$f":"IF('Protokoll E-Befischung'!AI199<>\"\",'Protokoll E-Befischung'!AI199,\"\")","v":""},{"$f":"IF('Protokoll E-Befischung'!AK199<>\"\",'Protokoll E-Befischung'!AK199,\"\")","v":""},{"$f":"IF('Protokoll E-Befischung'!AN199<>\"\",'Protokoll E-Befischung'!AN199,\"\")","v":""},{"$f":"IF('Protokoll E-Befischung'!AQ199<>\"\",'Protokoll E-Befischung'!AQ199,\"\")","v":""},{"$f":"IF('Protokoll E-Befischung'!AT199<>\"\",'Protokoll E-Befischung'!AT199,\"\")","v":""},{"$f":"IF('Protokoll E-Befischung'!AW199<>\"\",'Protokoll E-Befischung'!AW199,\"\")","v":""}]
[200,{"$f":"IF('Protokoll E-Befischung'!C200<>\"\",'Protokoll E-Befischung'!C200,\"\")","v":""},{"$f":"IF('Protokoll E-Befischung'!R200<>\"\",'Protokoll E-Befischung'!R200,\"\")","v":""},{"$f":"IF('Protokoll E-Befischung'!U200<>\"\",'Protokoll E-Befischung'!U200,\"\")","v":""},{"$f":"IF('Protokoll E-Befischung'!X200<>\"\",'Protokoll E-Befischung'!X200,\"\")","v":""},{"$f":"IF('Protokoll E-Befischung'!AA200<>\"\",'Protokoll E-Befischung'!AA200,\"\")","v":""},{"$f":"IF('Protokoll E-Befischung'!AC200<>\"\",'Protokoll E-Befischung'!AC200,\"\")","v":""},{"$f":"IF('Protokoll E-Befischung'!AF200<>\"\",'Protokoll E-Befischung'!AF200,\"\")","v":""},{"$f":"IF('Protokoll E-Befischung'!AI200<>\"\",'Protokoll E-Befischung'!AI200,\"\")","v":""},{"$f":"IF('Protokoll E-Befischung'!AK200<>\"\",'Protokoll E-Befischung'!AK200,\"\")","v":""},{"$f":"IF('Protokoll E-Befischung'!AN200<>\"\",'Protokoll E-Befischung'!AN200,\"\")","v":""},{"$f":"IF('Protokoll E-Befischung'!AQ200<>\"\",'Protokoll E-Befischung'!AQ200,\"\")","v":""},{"$f":"IF('Protokoll E-Befischung'!AT200<>\"\",'Protokoll E-Befischung'!AT200,\"\")","v":""},{"$f":"IF('Protokoll E-Befischung'!AW200<>\"\",'Protokoll E-Befischung'!AW200,\"\")","v":""}]
[201,{"$f":"IF('Protokoll E-Befischung'!C201<>\"\",'Protokoll E-Befischung'!C201,\"\")","v":""},{"$f":"IF('Protokoll E-Befischung'!R201<>\"\",'Protokoll E-Befischung'!R201,\"\")","v":""},{"$f":"IF('Protokoll E-Befischung'!U201<>\"\",'Protokoll E-Befischung'!U201,\"\")","v":""},{"$f":"IF('Protokoll E-Befischung'!X201<>\"\",'Protokoll E-Befischung'!X201,\"\")","v":""},{"$f":"IF('Protokoll E-Befischung'!AA201<>\"\",'Protokoll E-Befischung'!AA201,\"\")","v":""},{"$f":"IF('Protokoll E-Befischung'!AC201<>\"\",'Protokoll E-Befischung'!AC201,\"\")","v":""},{"$f":"IF('Protokoll E-Befischung'!AF201<>\"\",'Protokoll E-Befischung'!AF201,\"\")","v":""},{"$f":"IF('Protokoll E-Befischung'!AI201<>\"\",'Protokoll E-Befischung'!AI201,\"\")","v":""},{"$f":"IF('Protokoll E-Befischung'!AK201<>\"\",'Protokoll E-Befischung'!AK201,\"\")","v":""},{"$f":"IF('Protokoll E-Befischung'!AN201<>\"\",'Protokoll E-Befischung'!AN201,\"\")","v":""},{"$f":"IF('Protokoll E-Befischung'!AQ201<>\"\",'Protokoll E-Befischung'!AQ201,\"\")","v":""},{"$f":"IF('Protokoll E-Befischung'!AT201<>\"\",'Protokoll E-Befischung'!AT201,\"\")","v":""},{"$f":"IF('Protokoll E-Befischung'!AW201<>\"\",'Protokoll E-Befischung'!AW201,\"\")","v":""}]
[202,{"$f":"IF('Protokoll E-Befischung'!C202<>\"\",'Protokoll E-Befischung'!C202,\"\")","v":""},{"$f":"IF('Protokoll E-Befischung'!R202<>\"\",'Protokoll E-Befischung'!R202,\"\")","v":""},{"$f":"IF('Protokoll E-Befischung'!U202<>\"\",'Protokoll E-Befischung'!U202,\"\")","v":""},{"$f":"IF('Protokoll E-Befischung'!X202<>\"\",'Protokoll E-Befischung'!X202,\"\")","v":""},{"$f":"IF('Protokoll E-Befischung'!AA202<>\"\",'Protokoll E-Befischung'!AA202,\"\")","v":""},{"$f":"IF('Protokoll E-Befischung'!AC202<>\"\",'Protokoll E-Befischung'!AC202,\"\")","v":""},{"$f":"IF('Protokoll E-Befischung'!AF202<>\"\",'Protokoll E-Befischung'!AF202,\"\")","v":""},{"$f":"IF('Protokoll E-Befischung'!AI202<>\"\",'Protokoll E-Befischung'!AI202,\"\")","v":""},{"$f":"IF('Protokoll E-Befischung'!AK202<>\"\",'Protokoll E-Befischung'!AK202,\"\")","v":""},{"$f":"IF('Protokoll E-Befischung'!AN202<>\"\",'Protokoll E-Befischung'!AN202,\"\")","v":""},{"$f":"IF('Protokoll E-Befischung'!AQ202<>\"\",'Protokoll E-Befischung'!AQ202,\"\")","v":""},{"$f":"IF('Protokoll E-Befischung'!AT202<>\"\",'Protokoll E-Befischung'!AT202,\"\")","v":""},{"$f":"IF('Protokoll E-Befischung'!AW202<>\"\",'Protokoll E-Befischung'!AW202,\"\")","v":""}]
[203,{"$f":"IF('Protokoll E-Befischung'!C203<>\"\",'Protokoll E-Befischung'!C203,\"\")","v":""},{"$f":"IF('Protokoll E-Befischung'!R203<>\"\",'Protokoll E-Befischung'!R203,\"\")","v":""},{"$f":"IF('Protokoll E-Befischung'!U203<>\"\",'Protokoll E-Befischung'!U203,\"\")","v":""},{"$f":"IF('Protokoll E-Befischung'!X203<>\"\",'Protokoll E-Befischung'!X203,\"\")","v":""},{"$f":"IF('Protokoll E-Befischung'!AA203<>\"\",'Protokoll E-Befischung'!AA203,\"\")","v":""},{"$f":"IF('Protokoll E-Befischung'!AC203<>\"\",'Protokoll E-Befischung'!AC203,\"\")","v":""},{"$f":"IF('Protokoll E-Befischung'!AF203<>\"\",'Protokoll E-Befischung'!AF203,\"\")","v":""},{"$f":"IF('Protokoll E-Befischung'!AI203<>\"\",'Protokoll E-Befischung'!AI203,\"\")","v":""},{"$f":"IF('Protokoll E-Befischung'!AK203<>\"\",'Protokoll E-Befischung'!AK203,\"\")","v":""},{"$f":"IF('Protokoll E-Befischung'!AN203<>\"\",'Protokoll E-Befischung'!AN203,\"\")","v":""},{"$f":"IF('Protokoll E-Befischung'!AQ203<>\"\",'Protokoll E-Befischung'!AQ203,\"\")","v":""},{"$f":"IF('Protokoll E-Befischung'!AT203<>\"\",'Protokoll E-Befischung'!AT203,\"\")","v":""},{"$f":"IF('Protokoll E-Befischung'!AW203<>\"\",'Protokoll E-Befischung'!AW203,\"\")","v":""}]
[204,{"$f":"IF('Protokoll E-Befischung'!C204<>\"\",'Protokoll E-Befischung'!C204,\"\")","v":""},{"$f":"IF('Protokoll E-Befischung'!R204<>\"\",'Protokoll E-Befischung'!R204,\"\")","v":""},{"$f":"IF('Protokoll E-Befischung'!U204<>\"\",'Protokoll E-Befischung'!U204,\"\")","v":""},{"$f":"IF('Protokoll E-Befischung'!X204<>\"\",'Protokoll E-Befischung'!X204,\"\")","v":""},{"$f":"IF('Protokoll E-Befischung'!AA204<>\"\",'Protokoll E-Befischung'!AA204,\"\")","v":""},{"$f":"IF('Protokoll E-Befischung'!AC204<>\"\",'Protokoll E-Befischung'!AC204,\"\")","v":""},{"$f":"IF('Protokoll E-Befischung'!AF204<>\"\",'Protokoll E-Befischung'!AF204,\"\")","v":""},{"$f":"IF('Protokoll E-Befischung'!AI204<>\"\",'Protokoll E-Befischung'!AI204,\"\")","v":""},{"$f":"IF('Protokoll E-Befischung'!AK204<>\"\",'Protokoll E-Befischung'!AK204,\"\")","v":""},{"$f":"IF('Protokoll E-Befischung'!AN204<>\"\",'Protokoll E-Befischung'!AN204,\"\")","v":""},{"$f":"IF('Protokoll E-Befischung'!AQ204<>\"\",'Protokoll E-Befischung'!AQ204,\"\")","v":""},{"$f":"IF('Protokoll E-Befischung'!AT204<>\"\",'Protokoll E-Befischung'!AT204,\"\")","v":""},{"$f":"IF('Protokoll E-Befischung'!AW204<>\"\",'Protokoll E-Befischung'!AW204,\"\")","v":""}]
[205,{"$f":"IF('Protokoll E-Befischung'!C205<>\"\",'Protokoll E-Befischung'!C205,\"\")","v":""},{"$f":"IF('Protokoll E-Befischung'!R205<>\"\",'Protokoll E-Befischung'!R205,\"\")","v":""},{"$f":"IF('Protokoll E-Befischung'!U205<>\"\",'Protokoll E-Befischung'!U205,\"\")","v":""},{"$f":"IF('Protokoll E-Befischung'!X205<>\"\",'Protokoll E-Befischung'!X205,\"\")","v":""},{"$f":"IF('Protokoll E-Befischung'!AA205<>\"\",'Protokoll E-Befischung'!AA205,\"\")","v":""},{"$f":"IF('Protokoll E-Befischung'!AC205<>\"\",'Protokoll E-Befischung'!AC205,\"\")","v":""},{"$f":"IF('Protokoll E-Befischung'!AF205<>\"\",'Protokoll E-Befischung'!AF205,\"\")","v":""},{"$f":"IF('Protokoll E-Befischung'!AI205<>\"\",'Protokoll E-Befischung'!AI205,\"\")","v":""},{"$f":"IF('Protokoll E-Befischung'!AK205<>\"\",'Protokoll E-Befischung'!AK205,\"\")","v":""},{"$f":"IF('Protokoll E-Befischung'!AN205<>\"\",'Protokoll E-Befischung'!AN205,\"\")","v":""},{"$f":"IF('Protokoll E-Befischung'!AQ205<>\"\",'Protokoll E-Befischung'!AQ205,\"\")","v":""},{"$f":"IF('Protokoll E-Befischung'!AT205<>\"\",'Protokoll E-Befischung'!AT205,\"\")","v":""},{"$f":"IF('Protokoll E-Befischung'!AW205<>\"\",'Protokoll E-Befischung'!AW205,\"\")","v":""}]
[206,{"$f":"IF('Protokoll E-Befischung'!C206<>\"\",'Protokoll E-Befischung'!C206,\"\")","v":""},{"$f":"IF('Protokoll E-Befischung'!R206<>\"\",'Protokoll E-Befischung'!R206,\"\")","v":""},{"$f":"IF('Protokoll E-Befischung'!U206<>\"\",'Protokoll E-Befischung'!U206,\"\")","v":""},{"$f":"IF('Protokoll E-Befischung'!X206<>\"\",'Protokoll E-Befischung'!X206,\"\")","v":""},{"$f":"IF('Protokoll E-Befischung'!AA206<>\"\",'Protokoll E-Befischung'!AA206,\"\")","v":""},{"$f":"IF('Protokoll E-Befischung'!AC206<>\"\",'Protokoll E-Befischung'!AC206,\"\")","v":""},{"$f":"IF('Protokoll E-Befischung'!AF206<>\"\",'Protokoll E-Befischung'!AF206,\"\")","v":""},{"$f":"IF('Protokoll E-Befischung'!AI206<>\"\",'Protokoll E-Befischung'!AI206,\"\")","v":""},{"$f":"IF('Protokoll E-Befischung'!AK206<>\"\",'Protokoll E-Befischung'!AK206,\"\")","v":""},{"$f":"IF('Protokoll E-Befischung'!AN206<>\"\",'Protokoll E-Befischung'!AN206,\"\")","v":""},{"$f":"IF('Protokoll E-Befischung'!AQ206<>\"\",'Protokoll E-Befischung'!AQ206,\"\")","v":""},{"$f":"IF('Protokoll E-Befischung'!AT206<>\"\",'Protokoll E-Befischung'!AT206,\"\")","v":""},{"$f":"IF('Protokoll E-Befischung'!AW206<>\"\",'Protokoll E-Befischung'!AW206,\"\")","v":""}]
[207,{"$f":"IF('Protokoll E-Befischung'!C207<>\"\",'Protokoll E-Befischung'!C207,\"\")","v":""},{"$f":"IF('Protokoll E-Befischung'!R207<>\"\",'Protokoll E-Befischung'!R207,\"\")","v":""},{"$f":"IF('Protokoll E-Befischung'!U207<>\"\",'Protokoll E-Befischung'!U207,\"\")","v":""},{"$f":"IF('Protokoll E-Befischung'!X207<>\"\",'Protokoll E-Befischung'!X207,\"\")","v":""},{"$f":"IF('Protokoll E-Befischung'!AA207<>\"\",'Protokoll E-Befischung'!AA207,\"\")","v":""},{"$f":"IF('Protokoll E-Befischung'!AC207<>\"\",'Protokoll E-Befischung'!AC207,\"\")","v":""},{"$f":"IF('Protokoll E-Befischung'!AF207<>\"\",'Protokoll E-Befischung'!AF207,\"\")","v":""},{"$f":"IF('Protokoll E-Befischung'!AI207<>\"\",'Protokoll E-Befischung'!AI207,\"\")","v":""},{"$f":"IF('Protokoll E-Befischung'!AK207<>\"\",'Protokoll E-Befischung'!AK207,\"\")","v":""},{"$f":"IF('Protokoll E-Befischung'!AN207<>\"\",'Protokoll E-Befischung'!AN207,\"\")","v":""},{"$f":"IF('Protokoll E-Befischung'!AQ207<>\"\",'Protokoll E-Befischung'!AQ207,\"\")","v":""},{"$f":"IF('Protokoll E-Befischung'!AT207<>\"\",'Protokoll E-Befischung'!AT207,\"\")","v":""},{"$f":"IF('Protokoll E-Befischung'!AW207<>\"\",'Protokoll E-Befischung'!AW207,\"\")","v":""}]
[208,{"$f":"IF('Protokoll E-Befischung'!C208<>\"\",'Protokoll E-Befischung'!C208,\"\")","v":""},{"$f":"IF('Protokoll E-Befischung'!R208<>\"\",'Protokoll E-Befischung'!R208,\"\")","v":""},{"$f":"IF('Protokoll E-Befischung'!U208<>\"\",'Protokoll E-Befischung'!U208,\"\")","v":""},{"$f":"IF('Protokoll E-Befischung'!X208<>\"\",'Protokoll E-Befischung'!X208,\"\")","v":""},{"$f":"IF('Protokoll E-Befischung'!AA208<>\"\",'Protokoll E-Befischung'!AA208,\"\")","v":""},{"$f":"IF('Protokoll E-Befischung'!AC208<>\"\",'Protokoll E-Befischung'!AC208,\"\")","v":""},{"$f":"IF('Protokoll E-Befischung'!AF208<>\"\",'Protokoll E-Befischung'!AF208,\"\")","v":""},{"$f":"IF('Protokoll E-Befischung'!AI208<>\"\",'Protokoll E-Befischung'!AI208,\"\")","v":""},{"$f":"IF('Protokoll E-Befischung'!AK208<>\"\",'Protokoll E-Befischung'!AK208,\"\")","v":""},{"$f":"IF('Protokoll E-Befischung'!AN208<>\"\",'Protokoll E-Befischung'!AN208,\"\")","v":""},{"$f":"IF('Protokoll E-Befischung'!AQ208<>\"\",'Protokoll E-Befischung'!AQ208,\"\")","v":""},{"$f":"IF('Protokoll E-Befischung'!AT208<>\"\",'Protokoll E-Befischung'!AT208,\"\")","v":""},{"$f":"IF('Protokoll E-Befischung'!AW208<>\"\",'Protokoll E-Befischung'!AW208,\"\")","v":""}]
[209,{"$f":"IF('Protokoll E-Befischung'!C209<>\"\",'Protokoll E-Befischung'!C209,\"\")","v":""},{"$f":"IF('Protokoll E-Befischung'!R209<>\"\",'Protokoll E-Befischung'!R209,\"\")","v":""},{"$f":"IF('Protokoll E-Befischung'!U209<>\"\",'Protokoll E-Befischung'!U209,\"\")","v":""},{"$f":"IF('Protokoll E-Befischung'!X209<>\"\",'Protokoll E-Befischung'!X209,\"\")","v":""},{"$f":"IF('Protokoll E-Befischung'!AA209<>\"\",'Protokoll E-Befischung'!AA209,\"\")","v":""},{"$f":"IF('Protokoll E-Befischung'!AC209<>\"\",'Protokoll E-Befischung'!AC209,\"\")","v":""},{"$f":"IF('Protokoll E-Befischung'!AF209<>\"\",'Protokoll E-Befischung'!AF209,\"\")","v":""},{"$f":"IF('Protokoll E-Befischung'!AI209<>\"\",'Protokoll E-Befischung'!AI209,\"\")","v":""},{"$f":"IF('Protokoll E-Befischung'!AK209<>\"\",'Protokoll E-Befischung'!AK209,\"\")","v":""},{"$f":"IF('Protokoll E-Befischung'!AN209<>\"\",'Protokoll E-Befischung'!AN209,\"\")","v":""},{"$f":"IF('Protokoll E-Befischung'!AQ209<>\"\",'Protokoll E-Befischung'!AQ209,\"\")","v":""},{"$f":"IF('Protokoll E-Befischung'!AT209<>\"\",'Protokoll E-Befischung'!AT209,\"\")","v":""},{"$f":"IF('Protokoll E-Befischung'!AW209<>\"\",'Protokoll E-Befischung'!AW209,\"\")","v":""}]
[210,{"$f":"IF('Protokoll E-Befischung'!C210<>\"\",'Protokoll E-Befischung'!C210,\"\")","v":""},{"$f":"IF('Protokoll E-Befischung'!R210<>\"\",'Protokoll E-Befischung'!R210,\"\")","v":""},{"$f":"IF('Protokoll E-Befischung'!U210<>\"\",'Protokoll E-Befischung'!U210,\"\")","v":""},{"$f":"IF('Protokoll E-Befischung'!X210<>\"\",'Protokoll E-Befischung'!X210,\"\")","v":""},{"$f":"IF('Protokoll E-Befischung'!AA210<>\"\",'Protokoll E-Befischung'!AA210,\"\")","v":""},{"$f":"IF('Protokoll E-Befischung'!AC210<>\"\",'Protokoll E-Befischung'!AC210,\"\")","v":""},{"$f":"IF('Protokoll E-Befischung'!AF210<>\"\",'Protokoll E-Befischung'!AF210,\"\")","v":""},{"$f":"IF('Protokoll E-Befischung'!AI210<>\"\",'Protokoll E-Befischung'!AI210,\"\")","v":""},{"$f":"IF('Protokoll E-Befischung'!AK210<>\"\",'Protokoll E-Befischung'!AK210,\"\")","v":""},{"$f":"IF('Protokoll E-Befischung'!AN210<>\"\",'Protokoll E-Befischung'!AN210,\"\")","v":""},{"$f":"IF('Protokoll E-Befischung'!AQ210<>\"\",'Protokoll E-Befischung'!AQ210,\"\")","v":""},{"$f":"IF('Protokoll E-Befischung'!AT210<>\"\",'Protokoll E-Befischung'!AT210,\"\")","v":""},{"$f":"IF('Protokoll E-Befischung'!AW210<>\"\",'Protokoll E-Befischung'!AW210,\"\")","v":""}]
[211,{"$f":"IF('Protokoll E-Befischung'!C211<>\"\",'Protokoll E-Befischung'!C211,\"\")","v":""},{"$f":"IF('Protokoll E-Befischung'!R211<>\"\",'Protokoll E-Befischung'!R211,\"\")","v":""},{"$f":"IF('Protokoll E-Befischung'!U211<>\"\",'Protokoll E-Befischung'!U211,\"\")","v":""},{"$f":"IF('Protokoll E-Befischung'!X211<>\"\",'Protokoll E-Befischung'!X211,\"\")","v":""},{"$f":"IF('Protokoll E-Befischung'!AA211<>\"\",'Protokoll E-Befischung'!AA211,\"\")","v":""},{"$f":"IF('Protokoll E-Befischung'!AC211<>\"\",'Protokoll E-Befischung'!AC211,\"\")","v":""},{"$f":"IF('Protokoll E-Befischung'!AF211<>\"\",'Protokoll E-Befischung'!AF211,\"\")","v":""},{"$f":"IF('Protokoll E-Befischung'!AI211<>\"\",'Protokoll E-Befischung'!AI211,\"\")","v":""},{"$f":"IF('Protokoll E-Befischung'!AK211<>\"\",'Protokoll E-Befischung'!AK211,\"\")","v":""},{"$f":"IF('Protokoll E-Befischung'!AN211<>\"\",'Protokoll E-Befischung'!AN211,\"\")","v":""},{"$f":"IF('Protokoll E-Befischung'!AQ211<>\"\",'Protokoll E-Befischung'!AQ211,\"\")","v":""},{"$f":"IF('Protokoll E-Befischung'!AT211<>\"\",'Protokoll E-Befischung'!AT211,\"\")","v":""},{"$f":"IF('Protokoll E-Befischung'!AW211<>\"\",'Protokoll E-Befischung'!AW211,\"\")","v":""}]
[212,{"$f":"IF('Protokoll E-Befischung'!C212<>\"\",'Protokoll E-Befischung'!C212,\"\")","v":""},{"$f":"IF('Protokoll E-Befischung'!R212<>\"\",'Protokoll E-Befischung'!R212,\"\")","v":""},{"$f":"IF('Protokoll E-Befischung'!U212<>\"\",'Protokoll E-Befischung'!U212,\"\")","v":""},{"$f":"IF('Protokoll E-Befischung'!X212<>\"\",'Protokoll E-Befischung'!X212,\"\")","v":""},{"$f":"IF('Protokoll E-Befischung'!AA212<>\"\",'Protokoll E-Befischung'!AA212,\"\")","v":""},{"$f":"IF('Protokoll E-Befischung'!AC212<>\"\",'Protokoll E-Befischung'!AC212,\"\")","v":""},{"$f":"IF('Protokoll E-Befischung'!AF212<>\"\",'Protokoll E-Befischung'!AF212,\"\")","v":""},{"$f":"IF('Protokoll E-Befischung'!AI212<>\"\",'Protokoll E-Befischung'!AI212,\"\")","v":""},{"$f":"IF('Protokoll E-Befischung'!AK212<>\"\",'Protokoll E-Befischung'!AK212,\"\")","v":""},{"$f":"IF('Protokoll E-Befischung'!AN212<>\"\",'Protokoll E-Befischung'!AN212,\"\")","v":""},{"$f":"IF('Protokoll E-Befischung'!AQ212<>\"\",'Protokoll E-Befischung'!AQ212,\"\")","v":""},{"$f":"IF('Protokoll E-Befischung'!AT212<>\"\",'Protokoll E-Befischung'!AT212,\"\")","v":""},{"$f":"IF('Protokoll E-Befischung'!AW212<>\"\",'Protokoll E-Befischung'!AW212,\"\")","v":""}]
[213,{"$f":"IF('Protokoll E-Befischung'!C213<>\"\",'Protokoll E-Befischung'!C213,\"\")","v":""},{"$f":"IF('Protokoll E-Befischung'!R213<>\"\",'Protokoll E-Befischung'!R213,\"\")","v":""},{"$f":"IF('Protokoll E-Befischung'!U213<>\"\",'Protokoll E-Befischung'!U213,\"\")","v":""},{"$f":"IF('Protokoll E-Befischung'!X213<>\"\",'Protokoll E-Befischung'!X213,\"\")","v":""},{"$f":"IF('Protokoll E-Befischung'!AA213<>\"\",'Protokoll E-Befischung'!AA213,\"\")","v":""},{"$f":"IF('Protokoll E-Befischung'!AC213<>\"\",'Protokoll E-Befischung'!AC213,\"\")","v":""},{"$f":"IF('Protokoll E-Befischung'!AF213<>\"\",'Protokoll E-Befischung'!AF213,\"\")","v":""},{"$f":"IF('Protokoll E-Befischung'!AI213<>\"\",'Protokoll E-Befischung'!AI213,\"\")","v":""},{"$f":"IF('Protokoll E-Befischung'!AK213<>\"\",'Protokoll E-Befischung'!AK213,\"\")","v":""},{"$f":"IF('Protokoll E-Befischung'!AN213<>\"\",'Protokoll E-Befischung'!AN213,\"\")","v":""},{"$f":"IF('Protokoll E-Befischung'!AQ213<>\"\",'Protokoll E-Befischung'!AQ213,\"\")","v":""},{"$f":"IF('Protokoll E-Befischung'!AT213<>\"\",'Protokoll E-Befischung'!AT213,\"\")","v":""},{"$f":"IF('Protokoll E-Befischung'!AW213<>\"\",'Protokoll E-Befischung'!AW213,\"\")","v":""}]
[214,{"$f":"IF('Protokoll E-Befischung'!C214<>\"\",'Protokoll E-Befischung'!C214,\"\")","v":""},{"$f":"IF('Protokoll E-Befischung'!R214<>\"\",'Protokoll E-Befischung'!R214,\"\")","v":""},{"$f":"IF('Protokoll E-Befischung'!U214<>\"\",'Protokoll E-Befischung'!U214,\"\")","v":""},{"$f":"IF('Protokoll E-Befischung'!X214<>\"\",'Protokoll E-Befischung'!X214,\"\")","v":""},{"$f":"IF('Protokoll E-Befischung'!AA214<>\"\",'Protokoll E-Befischung'!AA214,\"\")","v":""},{"$f":"IF('Protokoll E-Befischung'!AC214<>\"\",'Protokoll E-Befischung'!AC214,\"\")","v":""},{"$f":"IF('Protokoll E-Befischung'!AF214<>\"\",'Protokoll E-Befischung'!AF214,\"\")","v":""},{"$f":"IF('Protokoll E-Befischung'!AI214<>\"\",'Protokoll E-Befischung'!AI214,\"\")","v":""},{"$f":"IF('Protokoll E-Befischung'!AK214<>\"\",'Protokoll E-Befischung'!AK214,\"\")","v":""},{"$f":"IF('Protokoll E-Befischung'!AN214<>\"\",'Protokoll E-Befischung'!AN214,\"\")","v":""},{"$f":"IF('Protokoll E-Befischung'!AQ214<>\"\",'Protokoll E-Befischung'!AQ214,\"\")","v":""},{"$f":"IF('Protokoll E-Befischung'!AT214<>\"\",'Protokoll E-Befischung'!AT214,\"\")","v":""},{"$f":"IF('Protokoll E-Befischung'!AW214<>\"\",'Protokoll E-Befischung'!AW214,\"\")","v":""}]
[215,{"$f":"IF('Protokoll E-Befischung'!C215<>\"\",'Protokoll E-Befischung'!C215,\"\")","v":""},{"$f":"IF('Protokoll E-Befischung'!R215<>\"\",'Protokoll E-Befischung'!R215,\"\")","v":""},{"$f":"IF('Protokoll E-Befischung'!U215<>\"\",'Protokoll E-Befischung'!U215,\"\")","v":""},{"$f":"IF('Protokoll E-Befischung'!X215<>\"\",'Protokoll E-Befischung'!X215,\"\")","v":""},{"$f":"IF('Protokoll E-Befischung'!AA215<>\"\",'Protokoll E-Befischung'!AA215,\"\")","v":""},{"$f":"IF('Protokoll E-Befischung'!AC215<>\"\",'Protokoll E-Befischung'!AC215,\"\")","v":""},{"$f":"IF('Protokoll E-Befischung'!AF215<>\"\",'Protokoll E-Befischung'!AF215,\"\")","v":""},{"$f":"IF('Protokoll E-Befischung'!AI215<>\"\",'Protokoll E-Befischung'!AI215,\"\")","v":""},{"$f":"IF('Protokoll E-Befischung'!AK215<>\"\",'Protokoll E-Befischung'!AK215,\"\")","v":""},{"$f":"IF('Protokoll E-Befischung'!AN215<>\"\",'Protokoll E-Befischung'!AN215,\"\")","v":""},{"$f":"IF('Protokoll E-Befischung'!AQ215<>\"\",'Protokoll E-Befischung'!AQ215,\"\")","v":""},{"$f":"IF('Protokoll E-Befischung'!AT215<>\"\",'Protokoll E-Befischung'!AT215,\"\")","v":""},{"$f":"IF('Protokoll E-Befischung'!AW215<>\"\",'Protokoll E-Befischung'!AW215,\"\")","v":""}]
[216,{"$f":"IF('Protokoll E-Befischung'!C216<>\"\",'Protokoll E-Befischung'!C216,\"\")","v":""},{"$f":"IF('Protokoll E-Befischung'!R216<>\"\",'Protokoll E-Befischung'!R216,\"\")","v":""},{"$f":"IF('Protokoll E-Befischung'!U216<>\"\",'Protokoll E-Befischung'!U216,\"\")","v":""},{"$f":"IF('Protokoll E-Befischung'!X216<>\"\",'Protokoll E-Befischung'!X216,\"\")","v":""},{"$f":"IF('Protokoll E-Befischung'!AA216<>\"\",'Protokoll E-Befischung'!AA216,\"\")","v":""},{"$f":"IF('Protokoll E-Befischung'!AC216<>\"\",'Protokoll E-Befischung'!AC216,\"\")","v":""},{"$f":"IF('Protokoll E-Befischung'!AF216<>\"\",'Protokoll E-Befischung'!AF216,\"\")","v":""},{"$f":"IF('Protokoll E-Befischung'!AI216<>\"\",'Protokoll E-Befischung'!AI216,\"\")","v":""},{"$f":"IF('Protokoll E-Befischung'!AK216<>\"\",'Protokoll E-Befischung'!AK216,\"\")","v":""},{"$f":"IF('Protokoll E-Befischung'!AN216<>\"\",'Protokoll E-Befischung'!AN216,\"\")","v":""},{"$f":"IF('Protokoll E-Befischung'!AQ216<>\"\",'Protokoll E-Befischung'!AQ216,\"\")","v":""},{"$f":"IF('Protokoll E-Befischung'!AT216<>\"\",'Protokoll E-Befischung'!AT216,\"\")","v":""},{"$f":"IF('Protokoll E-Befischung'!AW216<>\"\",'Protokoll E-Befischung'!AW216,\"\")","v":""}]
[217,{"$f":"IF('Protokoll E-Befischung'!C217<>\"\",'Protokoll E-Befischung'!C217,\"\")","v":""},{"$f":"IF('Protokoll E-Befischung'!R217<>\"\",'Protokoll E-Befischung'!R217,\"\")","v":""},{"$f":"IF('Protokoll E-Befischung'!U217<>\"\",'Protokoll E-Befischung'!U217,\"\")","v":""},{"$f":"IF('Protokoll E-Befischung'!X217<>\"\",'Protokoll E-Befischung'!X217,\"\")","v":""},{"$f":"IF('Protokoll E-Befischung'!AA217<>\"\",'Protokoll E-Befischung'!AA217,\"\")","v":""},{"$f":"IF('Protokoll E-Befischung'!AC217<>\"\",'Protokoll E-Befischung'!AC217,\"\")","v":""},{"$f":"IF('Protokoll E-Befischung'!AF217<>\"\",'Protokoll E-Befischung'!AF217,\"\")","v":""},{"$f":"IF('Protokoll E-Befischung'!AI217<>\"\",'Protokoll E-Befischung'!AI217,\"\")","v":""},{"$f":"IF('Protokoll E-Befischung'!AK217<>\"\",'Protokoll E-Befischung'!AK217,\"\")","v":""},{"$f":"IF('Protokoll E-Befischung'!AN217<>\"\",'Protokoll E-Befischung'!AN217,\"\")","v":""},{"$f":"IF('Protokoll E-Befischung'!AQ217<>\"\",'Protokoll E-Befischung'!AQ217,\"\")","v":""},{"$f":"IF('Protokoll E-Befischung'!AT217<>\"\",'Protokoll E-Befischung'!AT217,\"\")","v":""},{"$f":"IF('Protokoll E-Befischung'!AW217<>\"\",'Protokoll E-Befischung'!AW217,\"\")","v":""}]
[218,{"$f":"IF('Protokoll E-Befischung'!C218<>\"\",'Protokoll E-Befischung'!C218,\"\")","v":""},{"$f":"IF('Protokoll E-Befischung'!R218<>\"\",'Protokoll E-Befischung'!R218,\"\")","v":""},{"$f":"IF('Protokoll E-Befischung'!U218<>\"\",'Protokoll E-Befischung'!U218,\"\")","v":""},{"$f":"IF('Protokoll E-Befischung'!X218<>\"\",'Protokoll E-Befischung'!X218,\"\")","v":""},{"$f":"IF('Protokoll E-Befischung'!AA218<>\"\",'Protokoll E-Befischung'!AA218,\"\")","v":""},{"$f":"IF('Protokoll E-Befischung'!AC218<>\"\",'Protokoll E-Befischung'!AC218,\"\")","v":""},{"$f":"IF('Protokoll E-Befischung'!AF218<>\"\",'Protokoll E-Befischung'!AF218,\"\")","v":""},{"$f":"IF('Protokoll E-Befischung'!AI218<>\"\",'Protokoll E-Befischung'!AI218,\"\")","v":""},{"$f":"IF('Protokoll E-Befischung'!AK218<>\"\",'Protokoll E-Befischung'!AK218,\"\")","v":""},{"$f":"IF('Protokoll E-Befischung'!AN218<>\"\",'Protokoll E-Befischung'!AN218,\"\")","v":""},{"$f":"IF('Protokoll E-Befischung'!AQ218<>\"\",'Protokoll E-Befischung'!AQ218,\"\")","v":""},{"$f":"IF('Protokoll E-Befischung'!AT218<>\"\",'Protokoll E-Befischung'!AT218,\"\")","v":""},{"$f":"IF('Protokoll E-Befischung'!AW218<>\"\",'Protokoll E-Befischung'!AW218,\"\")","v":""}]
[219,{"$f":"IF('Protokoll E-Befischung'!C219<>\"\",'Protokoll E-Befischung'!C219,\"\")","v":""},{"$f":"IF('Protokoll E-Befischung'!R219<>\"\",'Protokoll E-Befischung'!R219,\"\")","v":""},{"$f":"IF('Protokoll E-Befischung'!U219<>\"\",'Protokoll E-Befischung'!U219,\"\")","v":""},{"$f":"IF('Protokoll E-Befischung'!X219<>\"\",'Protokoll E-Befischung'!X219,\"\")","v":""},{"$f":"IF('Protokoll E-Befischung'!AA219<>\"\",'Protokoll E-Befischung'!AA219,\"\")","v":""},{"$f":"IF('Protokoll E-Befischung'!AC219<>\"\",'Protokoll E-Befischung'!AC219,\"\")","v":""},{"$f":"IF('Protokoll E-Befischung'!AF219<>\"\",'Protokoll E-Befischung'!AF219,\"\")","v":""},{"$f":"IF('Protokoll E-Befischung'!AI219<>\"\",'Protokoll E-Befischung'!AI219,\"\")","v":""},{"$f":"IF('Protokoll E-Befischung'!AK219<>\"\",'Protokoll E-Befischung'!AK219,\"\")","v":""},{"$f":"IF('Protokoll E-Befischung'!AN219<>\"\",'Protokoll E-Befischung'!AN219,\"\")","v":""},{"$f":"IF('Protokoll E-Befischung'!AQ219<>\"\",'Protokoll E-Befischung'!AQ219,\"\")","v":""},{"$f":"IF('Protokoll E-Befischung'!AT219<>\"\",'Protokoll E-Befischung'!AT219,\"\")","v":""},{"$f":"IF('Protokoll E-Befischung'!AW219<>\"\",'Protokoll E-Befischung'!AW219,\"\")","v":""}]
[220,{"$f":"IF('Protokoll E-Befischung'!C220<>\"\",'Protokoll E-Befischung'!C220,\"\")","v":""},{"$f":"IF('Protokoll E-Befischung'!R220<>\"\",'Protokoll E-Befischung'!R220,\"\")","v":""},{"$f":"IF('Protokoll E-Befischung'!U220<>\"\",'Protokoll E-Befischung'!U220,\"\")","v":""},{"$f":"IF('Protokoll E-Befischung'!X220<>\"\",'Protokoll E-Befischung'!X220,\"\")","v":""},{"$f":"IF('Protokoll E-Befischung'!AA220<>\"\",'Protokoll E-Befischung'!AA220,\"\")","v":""},{"$f":"IF('Protokoll E-Befischung'!AC220<>\"\",'Protokoll E-Befischung'!AC220,\"\")","v":""},{"$f":"IF('Protokoll E-Befischung'!AF220<>\"\",'Protokoll E-Befischung'!AF220,\"\")","v":""},{"$f":"IF('Protokoll E-Befischung'!AI220<>\"\",'Protokoll E-Befischung'!AI220,\"\")","v":""},{"$f":"IF('Protokoll E-Befischung'!AK220<>\"\",'Protokoll E-Befischung'!AK220,\"\")","v":""},{"$f":"IF('Protokoll E-Befischung'!AN220<>\"\",'Protokoll E-Befischung'!AN220,\"\")","v":""},{"$f":"IF('Protokoll E-Befischung'!AQ220<>\"\",'Protokoll E-Befischung'!AQ220,\"\")","v":""},{"$f":"IF('Protokoll E-Befischung'!AT220<>\"\",'Protokoll E-Befischung'!AT220,\"\")","v":""},{"$f":"IF('Protokoll E-Befischung'!AW220<>\"\",'Protokoll E-Befischung'!AW220,\"\")","v":""}]
[null,{"$f":"COUNTIF(B232:B258,\"\")","v":27}]